BEGIN:VCALENDAR
VERSION:2.0
PRODID:-//ChamberMaster//Event Calendar 2.0//EN
METHOD:PUBLISH
X-PUBLISHED-TTL:P3D
REFRESH-INTERVAL:P3D
CALSCALE:GREGORIAN
BEGIN:VEVENT
DTSTART:20160401T020000Z
DTEND:20160404T040000Z
X-MICROSOFT-CDO-ALLDAYEVENT:FALSE
SUMMARY:You're a Good Man\, Charlie Brown
DESCRIPTION:San Diego Christian Performing Arts Department presents: "You're a Good Man\, Charlie Brown" Ticket link: https://squareup.com/market/sdc-performing-arts-department Ticket Price Info: Thursday\, March 31 $5 student tickets with valid ID $10 General Admission tickets $5 Child Admission (Age 12 and under) with purchase of a General Admission Ticket Friday\, April 1 / Saturday\, April 2 / Sunday\, April 3 $10 General Admission tickets $5 Child Admission (Age 12 and under) with purchase of a General Admission Ticket
X-ALT-DESC;FMTTYPE=text/html:San Diego Christian Performing Arts Department presents: &quot\;You&#39\;re a Good Man\, Charlie Brown&quot\; Ticket link: https://squareup.com/market/sdc-performing-arts-department Ticket Price Info: Thursday\, March 31 $5 student tickets with valid ID $10 General Admission tickets $5 Child Admission (Age 12 and under) with purchase of a General Admission Ticket Friday\, April 1 / Saturday\, April 2 / Sunday\, April 3 $10 General Admission tickets $5 Child Admission (Age 12 and under) with purchase of a General Admission Ticket
LOCATION:Santee Trolley Square Amphitheater
UID:e.2538.2828
SEQUENCE:3
DTSTAMP:20260425T214224Z
URL:https://santeechamber.com/events/details/you-re-a-good-man-charlie-brown-03-31-2016-2828
END:VEVENT

END:VCALENDAR
