BEGIN:VCALENDAR
VERSION:2.0
PRODID:-//ChamberMaster//Event Calendar 2.0//EN
METHOD:PUBLISH
X-PUBLISHED-TTL:P3D
REFRESH-INTERVAL:P3D
CALSCALE:GREGORIAN
BEGIN:VEVENT
DTSTART:20170520T220000Z
DTEND:20170521T020000Z
X-MICROSOFT-CDO-ALLDAYEVENT:FALSE
SUMMARY:Wild in the Country
DESCRIPTION:Non-profit Fundraiser: Casino Royale at the Ranch Visit with Big Cats & Bears Live/silent auctions\, scrumptious food\, casino games\, live entertainment\, family fun!
X-ALT-DESC;FMTTYPE=text/html:Non-profit Fundraiser: Casino Royale at the Ranch Visit with Big Cats &amp\; Bears Live/silent auctions\, scrumptious food\, casino games\, live entertainment\, family fun!
LOCATION:Lions Tigers & Bears 24402 Martin Way Alpine\, CA 91901
UID:e.2538.3015
SEQUENCE:3
DTSTAMP:20260425T012625Z
URL:https://santeechamber.com/events/details/wild-in-the-country-3015
END:VEVENT

END:VCALENDAR
