BEGIN:VCALENDAR
VERSION:2.0
PRODID:-//ChamberMaster//Event Calendar 2.0//EN
METHOD:PUBLISH
X-PUBLISHED-TTL:P3D
REFRESH-INTERVAL:P3D
CALSCALE:GREGORIAN
BEGIN:VEVENT
DTSTART:20160514T210000Z
DTEND:20160515T020000Z
X-MICROSOFT-CDO-ALLDAYEVENT:FALSE
SUMMARY:Wild in the Country
DESCRIPTION:Join us at Lions\, Tigers & Bears for our biggest fundraiser of the year - Wild in the Country! And this year "We're not 'lion' we're having a LUAU!" This family-friendly fundraiser features a live and silent auction\, live entertainment\, a catered meal and time to spend with our rescued animals! Lions Tigers & Bears is a state and federally licensed and globally accredited exotic animal rescue sanctuary dedicated to providing a safe haven to abused and abandoned exotic animals while inspiring an educational forum to end the exotic animal trade. We host guided educational visits to our sanctuary\, as well as offer educational opportunities for scout groups\, schools\, youth groups and more.
X-ALT-DESC;FMTTYPE=text/html:Join us at Lions\, Tigers &amp\; Bears for our biggest fundraiser of the year - Wild in the Country! And this year &quot\;We&#39\;re not &#39\;lion&#39\; we&#39\;re having a LUAU!&quot\; This family-friendly fundraiser features a live and silent auction\, live entertainment\, a catered meal and time to spend with our rescued animals! Lions Tigers &amp\; Bears is a state and federally licensed and globally accredited exotic animal rescue sanctuary dedicated to providing a safe haven to abused and abandoned exotic animals while inspiring an educational forum to end the exotic animal trade. We host guided educational visits to our sanctuary\, as well as offer educational opportunities for scout groups\, schools\, youth groups and more.
LOCATION:Lions\, Tigers & Bears 24402 Martin Way Alpine\, CA 91901
UID:e.2538.2822
SEQUENCE:3
DTSTAMP:20260425T184921Z
URL:https://santeechamber.com/events/details/wild-in-the-country-05-14-2016-2822
END:VEVENT

END:VCALENDAR
