BEGIN:VCALENDAR
VERSION:2.0
PRODID:-//ChamberMaster//Event Calendar 2.0//EN
METHOD:PUBLISH
X-PUBLISHED-TTL:P3D
REFRESH-INTERVAL:P3D
CALSCALE:GREGORIAN
BEGIN:VEVENT
DTSTART:20200125T150000Z
DTEND:20200125T203000Z
X-MICROSOFT-CDO-ALLDAYEVENT:FALSE
SUMMARY:U.S. Olympic 50km Race Walk Trials & Free Breakfast with Champions
DESCRIPTION:Athletes competing in this 50km Race Walk have the chance to qualify for the Tokyo 2020 Olympics right here in Santee. We are encouraging spectators to come watch athletes compete and enjoy free continental breakfast while sitting in premier course side seats.
X-ALT-DESC;FMTTYPE=text/html:Athletes competing in this 50km Race Walk have the chance to qualify for the Tokyo 2020 Olympics right here in Santee. We are encouraging spectators to come watch athletes compete and enjoy free continental breakfast while sitting in premier course side seats.
LOCATION:Location: Santee Trolley Square (in the parking lot behind the clock tower) and the race will take place on Town Center Parkway & Riverview Parkway
UID:e.2538.3521
SEQUENCE:3
DTSTAMP:20260425T115815Z
URL:https://santeechamber.com/events/details/u-s-olympic-50km-race-walk-trials-free-breakfast-with-champions-3521
END:VEVENT

END:VCALENDAR
