BEGIN:VCALENDAR
VERSION:2.0
PRODID:-//ChamberMaster//Event Calendar 2.0//EN
METHOD:PUBLISH
X-PUBLISHED-TTL:P3D
REFRESH-INTERVAL:P3D
CALSCALE:GREGORIAN
BEGIN:VEVENT
DTSTART:20161102T190000Z
DTEND:20161102T200000Z
X-MICROSOFT-CDO-ALLDAYEVENT:FALSE
SUMMARY:Town & Country Wine and Spirits Ribbon Cutting
DESCRIPTION:Come out to Town & Country Wine and Spirits for a ribbon cutting\, some delicious treats\, and to take a look at the store's remodeling.
X-ALT-DESC;FMTTYPE=text/html:<span style="color: rgb(75\, 79\, 86)\; font-family: Helvetica\, Arial\, sans-serif\; font-size: 14px\;">Come out to Town &amp\; Country Wine and Spirits for a ribbon cutting\, some delicious treats\, and to take a look at the store&#39\;s remodeling.</span>
LOCATION:pin Hide Map Town & Country Wine and Spirits 9266 Carlton Oaks Drive\, Santee\, California 92071
UID:e.2538.2866
SEQUENCE:3
DTSTAMP:20260425T105846Z
URL:https://santeechamber.com/events/details/town-country-wine-and-spirits-ribbon-cutting-2866
END:VEVENT

END:VCALENDAR
