BEGIN:VCALENDAR
VERSION:2.0
PRODID:-//ChamberMaster//Event Calendar 2.0//EN
METHOD:PUBLISH
X-PUBLISHED-TTL:P3D
REFRESH-INTERVAL:P3D
CALSCALE:GREGORIAN
BEGIN:VEVENT
DTSTART:20190108T173000Z
DTEND:20190109T063000Z
X-MICROSOFT-CDO-ALLDAYEVENT:FALSE
SUMMARY:The Salvation Army Santee Re-Grand Opening
DESCRIPTION:Join us to celebrate the Re-Grand Opening for The Salvation Army Santee. There will be coffee and morning goodies. Everyone is invited!
X-ALT-DESC;FMTTYPE=text/html:Join us to celebrate the Re-Grand Opening for The Salvation Army Santee. There will be coffee and morning goodies. Everyone is invited!
LOCATION:The Salvation Army Santee 8828 Cuyamaca St\, Santee\, CA 92071
UID:e.2538.3274
SEQUENCE:3
DTSTAMP:20260423T143853Z
URL:https://santeechamber.com/events/details/the-salvation-army-santee-re-grand-opening-3274
END:VEVENT

END:VCALENDAR
