BEGIN:VCALENDAR
VERSION:2.0
PRODID:-//ChamberMaster//Event Calendar 2.0//EN
METHOD:PUBLISH
X-PUBLISHED-TTL:P3D
REFRESH-INTERVAL:P3D
CALSCALE:GREGORIAN
BEGIN:VEVENT
DTSTART:20160625T010000Z
DTEND:20160625T050000Z
X-MICROSOFT-CDO-ALLDAYEVENT:FALSE
SUMMARY:The Peanuts Movie
DESCRIPTION:Santee Lakes Presents Movies & More by the Lakes Family Fun Entertainment - Activities - Games - Contest - Photo Booth - Food
X-ALT-DESC;FMTTYPE=text/html:Santee Lakes Presents Movies &amp\; More by the Lakes Family Fun Entertainment - Activities - Games - Contest - Photo Booth - Food
LOCATION:Santee Lakes
UID:e.2538.2830
SEQUENCE:3
DTSTAMP:20260425T170323Z
URL:https://santeechamber.com/events/details/the-peanuts-movie-06-24-2016-2830
END:VEVENT

END:VCALENDAR
