BEGIN:VCALENDAR
VERSION:2.0
PRODID:-//ChamberMaster//Event Calendar 2.0//EN
METHOD:PUBLISH
X-PUBLISHED-TTL:P3D
REFRESH-INTERVAL:P3D
CALSCALE:GREGORIAN
BEGIN:VEVENT
DTSTART:20191206T020000Z
DTEND:20191206T040000Z
X-MICROSOFT-CDO-ALLDAYEVENT:FALSE
SUMMARY:Taste of Santee 2019
DESCRIPTION:Join the Santee Chamber at the 32nd Annual Taste of Santee as we celebrate the holiday season and taste the best from local restaurants and shops. This yearly tradition brings our community together to help the Santee Santas give back to residents in need this season.\n\n\n \n\n\n\nENTRANCE FEE:\n\n\n\n$15 and a donation of an unwrapped toy.\n\n\n\n* Contribute a $50 Walmart gift card for a tween/teen or a bike with a helmet to waive the entrance fee! \n\n\n\n \n\n\n\nAll toys and gift card donations benefit Santee Santas Foundation.
X-ALT-DESC;FMTTYPE=text/html:<span data-offset-key="3lf7s-0-0"><span data-text="true">Join the Santee Chamber at the 32nd Annual Taste of Santee as we celebrate the holiday season and taste the best from local restaurants and shops. This yearly tradition brings our community together to help the Santee Santas give back to residents in need this season.</span></span>\n<div data-contents="true">\n<div data-block="true" data-editor="dl90l" data-offset-key="824bq-0-0">\n<div class="_1mf _1mj" data-offset-key="824bq-0-0">&nbsp\;</div>\n</div>\n\n<div data-block="true" data-editor="dl90l" data-offset-key="aimll-0-0">\n<div class="_1mf _1mj" data-offset-key="aimll-0-0"><span data-offset-key="aimll-0-0"><span data-text="true">ENTRANCE FEE:</span></span></div>\n</div>\n\n<div data-block="true" data-editor="dl90l" data-offset-key="14pfk-0-0">\n<div class="_1mf _1mj" data-offset-key="14pfk-0-0"><span data-offset-key="14pfk-0-0"><span data-text="true">$15 and a&nbsp\;donation of an unwrapped toy.</span></span></div>\n</div>\n\n<div data-block="true" data-editor="dl90l" data-offset-key="8rhl5-0-0">\n<div class="_1mf _1mj" data-offset-key="8rhl5-0-0"><span data-offset-key="8rhl5-0-0"><span data-text="true">* Contribute a $50 Walmart gift card for a tween/teen or a bike with a helmet to waive the entrance fee! </span></span></div>\n</div>\n\n<div data-block="true" data-editor="dl90l" data-offset-key="efs0f-0-0">\n<div class="_1mf _1mj" data-offset-key="efs0f-0-0">&nbsp\;</div>\n</div>\n\n<div data-block="true" data-editor="dl90l" data-offset-key="7e7cc-0-0">\n<div class="_1mf _1mj" data-offset-key="7e7cc-0-0"><span data-offset-key="7e7cc-0-0"><span data-text="true">All toys and gift card donations benefit Santee Santas Foundation.</span></span></div>\n</div>\n</div>\n
LOCATION:Toyota Certified Center of Santee 8871 Fanita Drive Click HERE for Map
UID:e.2538.3479
SEQUENCE:3
DTSTAMP:20260423T094632Z
URL:https://santeechamber.com/events/details/taste-of-santee-2019-3479
END:VEVENT

END:VCALENDAR
