BEGIN:VCALENDAR
VERSION:2.0
PRODID:-//ChamberMaster//Event Calendar 2.0//EN
METHOD:PUBLISH
X-PUBLISHED-TTL:P3D
REFRESH-INTERVAL:P3D
CALSCALE:GREGORIAN
BEGIN:VEVENT
DTSTART:20181207T020000Z
DTEND:20181207T040000Z
X-MICROSOFT-CDO-ALLDAYEVENT:FALSE
SUMMARY:Taste of Santee 2018 Food Vendors
DESCRIPTION:Join the Santee Chamber at the 31st Annual Taste of Santee as we celebrate the holiday season and taste the best from local restaurants and shops. This yearly tradition brings our community together to help the Santee Santas give back to residents in need this season. \n\n\n\nA food vendor booth at the Taste of Santee has no fee to be involved\; vendors will not be able to sell but will be able to pass out samples and any promotional items.\n\n\n\nWe ask that you provide a minimum of 200 samples\, plates\, napkins\, utensils\, and staff member(s) to serve and speak about your samples.We will provide tables and tablecloths . \n\n\n\nAdmission to the event will begin at 5:30pm. After signing up\, we will contact you about your earliest set-up time. Tear-down will be at 7:30pm.
X-ALT-DESC;FMTTYPE=text/html:<span style="font-family: &quot\;times new roman&quot\;\; font-size: 14px\;">Join the&nbsp\;</span>Santee<span style="font-family: &quot\;times new roman&quot\;\; font-size: 14px\;">&nbsp\;Chamber at the </span><span style="font-family: &quot\;times new roman&quot\;\; font-size: 14px\;">31st</span><span style="font-family: &quot\;times new roman&quot\;\; font-size: 14px\;">&nbsp\;Annual Taste of&nbsp\;</span>Santee<span style="font-family: &quot\;times new roman&quot\;\; font-size: 14px\;">&nbsp\;as we celebrate the holiday season and taste the best from local restaurants and shops. This yearly tradition brings our community together to help the&nbsp\;</span>Santee<span style="font-family: &quot\;times new roman&quot\;\; font-size: 14px\;">&nbsp\;</span>Santas<span style="font-family: &quot\;times new roman&quot\;\; font-size: 14px\;">&nbsp\;give back to residents in need this season.&nbsp\;</span><br />\n<br />\nA food vendor booth at the Taste of Santee&nbsp\;has no fee to be involved\; vendors will not be able to sell but will be able to pass out samples and any promotional items.<br />\n<br />\nWe ask that you provide a minimum of 200 samples\, plates\, napkins\, utensils\, and staff member(s) to serve and speak about your samples.We will provide tables and tablecloths .&nbsp\;<br />\n<br />\nAdmission to the event will begin at 5:30pm. After signing up\, we will contact you about your earliest set-up time. Tear-down will be at 7:30pm.
LOCATION:Toyota Certified Center of Santee 8871 Fanita Drive Click HERE for Map
UID:e.2538.3237
SEQUENCE:3
DTSTAMP:20260423T161236Z
URL:https://santeechamber.com/events/details/taste-of-santee-2018-food-vendors-3237
END:VEVENT

END:VCALENDAR
