BEGIN:VCALENDAR
VERSION:2.0
PRODID:-//ChamberMaster//Event Calendar 2.0//EN
METHOD:PUBLISH
X-PUBLISHED-TTL:P3D
REFRESH-INTERVAL:P3D
CALSCALE:GREGORIAN
BEGIN:VEVENT
DTSTART:20171208T020000Z
DTEND:20171208T040000Z
X-MICROSOFT-CDO-ALLDAYEVENT:FALSE
SUMMARY:Taste of Santee 2017
DESCRIPTION:Join the Santee Chamber at the 30th Annual Taste of Santee as we celebrate the holiday season and taste the best from local restaurants and shops. This yearly tradition brings our community together to help the Santee Santas give back to residents in need this season. In addition Mission Realty is having a bike drive at this event. Bring a childrens bike and helmet to have your entrance fee waived!
X-ALT-DESC;FMTTYPE=text/html:<span new="" style="font-family:\;" times="">Join the&nbsp\;</span>Santee<span new="" style="font-family:\;" times="">&nbsp\;Chamber at the </span><span new="" style="font-family:\;" times="">30</span>th<span new="" style="font-family:\;" times="">&nbsp\;Annual Taste of&nbsp\;</span>Santee<span new="" style="font-family:\;" times="">&nbsp\;as we celebrate the holiday season and taste the best from local restaurants and shops. This yearly tradition brings our community together to help the&nbsp\;</span>Santee<span new="" style="font-family:\;" times="">&nbsp\;</span>Santas<span new="" style="font-family:\;" times="">&nbsp\;give back to residents in need this season.&nbsp\;In addition Mission Realty is having a bike drive at this event. Bring a childrens&nbsp\;bike and helmet to have your entrance fee waived!</span>
LOCATION:Toyota Certified Center of Santee 8871 Fanita Drive Click HERE for Map
UID:e.2538.3028
SEQUENCE:3
DTSTAMP:20260424T123902Z
URL:https://santeechamber.com/events/details/taste-of-santee-2017-3028
END:VEVENT

END:VCALENDAR
