BEGIN:VCALENDAR
VERSION:2.0
PRODID:-//ChamberMaster//Event Calendar 2.0//EN
METHOD:PUBLISH
X-PUBLISHED-TTL:P3D
REFRESH-INTERVAL:P3D
CALSCALE:GREGORIAN
BEGIN:VEVENT
DTSTART:20190214T184500Z
DTEND:20190214T203000Z
X-MICROSOFT-CDO-ALLDAYEVENT:FALSE
SUMMARY:SYP Speed Networking
DESCRIPTION:This SYP Lunch & Learn is Speed Dating with a twist! Join us for SYP Speed Networking! Bring plenty of business cards and be ready to make lots of connections!
X-ALT-DESC;FMTTYPE=text/html:<div data-contents="true">\n<div data-block="true" data-editor="eih5a" data-offset-key="76eh-0-0">\n<div class="_1mf _1mj" data-offset-key="76eh-0-0">This SYP Lunch &amp\; Learn is Speed Dating with a twist! Join us for SYP Speed Networking! Bring plenty of business cards and be ready to make lots of connections!</div>\n</div>\n\n<div data-block="true" data-editor="eih5a" data-offset-key="1usvs-0-0">\n<div class="_1mf _1mj" data-offset-key="1usvs-0-0">&nbsp\;</div>\n</div>\n</div>\n
LOCATION:Carlton Oaks Country Club 9200 Inwood Dr. Santee\, CA 92071
UID:e.2538.3256
SEQUENCE:3
DTSTAMP:20260423T130925Z
URL:https://santeechamber.com/events/details/syp-speed-networking-3256
END:VEVENT

END:VCALENDAR
