BEGIN:VCALENDAR
VERSION:2.0
PRODID:-//ChamberMaster//Event Calendar 2.0//EN
METHOD:PUBLISH
X-PUBLISHED-TTL:P3D
REFRESH-INTERVAL:P3D
CALSCALE:GREGORIAN
BEGIN:VEVENT
DTSTART:20191016T183000Z
DTEND:20191016T200000Z
X-MICROSOFT-CDO-ALLDAYEVENT:FALSE
SUMMARY:SYP Lunch & Learn - Achieve Your Biggest Goals Before 2020
DESCRIPTION:How To Achieve Your Biggest Goals Before The End Of The Year\, Without Adding Any More Items To Your To-Do List.\n\n\n\nEvery January is the same: Set a goal. Post it on Instagram. Get started on it enthusiastically. Experience a setback. Lose motivation. Feel guilty\, and declare you'll do better next year.  The problem is\, as a business owner you already have so many items on your to-do list\, you don't struggle with knowing what to do\, but what you should do first and then next.  What if there was an easy to way to figure out not only what order your to-do list should be in\, but what items can come off your list entirely?  \n\n\n\nThe Santee Young Professionals Group invites you to join us at our next "lunch and learn"\, where Todd Tolson an Entrepreneur & the Pastor of Riverview Community Church\, will present\, "How To Achieve Your Biggest Goals Before The End Of The Year\, Without Adding Any More Items To Your To-Do List.". Not only will Todd share some easy-to-learn life & business "hacks" that will increase your productivity\, he will also give away the ONE tool he uses to achieve his goals\, lead his business & Pastor one of the fastest growing Churches in San Diego.
X-ALT-DESC;FMTTYPE=text/html:<span style="font-size: 12px\;"><span style="font-family: arial\;"><span style="mso-fareast-font-family: Calibri\; mso-fareast-theme-font: minor-latin\; mso-ansi-language: EN-US\; mso-fareast-language: EN-US\; mso-bidi-language: AR-SA\;"><strong>How To Achieve Your Biggest Goals Before The End Of The Year\, Without Adding Any More Items To Your To-Do List.</strong><br />\n<br />\nEvery January is the same: Set a goal. Post it on Instagram. Get started on it enthusiastically. Experience a setback. Lose motivation. Feel guilty\, and declare you&rsquo\;ll do better next year. &nbsp\;The problem is\, as a business owner you already have so many items on your to-do list\, you don&rsquo\;t struggle with knowing what to do\, but what you should do first&hellip\;and then next. &nbsp\;What if there was an easy to way to figure out not only what order your to-do list should be in\, but what items can come off your list entirely? &nbsp\;<br />\n<br />\nThe Santee Young Professionals Group invites you to join us at our next &ldquo\;lunch and learn&rdquo\;\, where Todd Tolson an Entrepreneur &amp\; the Pastor of Riverview Community Church\, will present\,&nbsp\;&quot\;How To Achieve Your Biggest Goals Before The End Of The Year\, Without Adding Any More Items To Your To-Do List.&rdquo\;. Not only will Todd share some easy-to-learn life &amp\; business &ldquo\;hacks&rdquo\; that will increase your productivity\, he will also give away the ONE tool he uses to achieve his goals\, lead his business &amp\; Pastor one of the fastest growing Churches in San Diego.</span></span></span>
LOCATION:Riverview Community Church 8861 N Magnolia Ave. Santee\, CA 92071
UID:e.2538.3470
SEQUENCE:3
DTSTAMP:20260423T071147Z
URL:https://santeechamber.com/events/details/syp-lunch-learn-achieve-your-biggest-goals-before-2020-3470
END:VEVENT

END:VCALENDAR
