BEGIN:VCALENDAR
VERSION:2.0
PRODID:-//ChamberMaster//Event Calendar 2.0//EN
METHOD:PUBLISH
X-PUBLISHED-TTL:P3D
REFRESH-INTERVAL:P3D
CALSCALE:GREGORIAN
BEGIN:VEVENT
DTSTART:20190613T183000Z
DTEND:20190613T200000Z
X-MICROSOFT-CDO-ALLDAYEVENT:FALSE
SUMMARY:SYP Lunch & Learn
DESCRIPTION:Join us at Fifty-Two East Eatery as we have lunch and listen to Kyle Whissel owner of Whissel Realty where he will be going over Networking and Leveraging relationships to grow your business.\n\n\n\nLunch will be provided and includes:\nWings\n\nSliders\n\nBeer Cheese Fries\n\nMini Pork Tacos\n\nSausage Board\n\nCheese Board\n\nMixed Berry Salad
X-ALT-DESC;FMTTYPE=text/html:Join us at Fifty-Two East Eatery as we have lunch and&nbsp\;listen to Kyle Whissel owner of Whissel Realty where he will be going over Networking and Leveraging relationships to grow your business.<br />\n<br />\nLunch will be provided and includes:\n<p style="margin: 0in 0in 0pt\;">Wings</p>\n\n<p style="margin: 0in 0in 0pt\;">Sliders</p>\n\n<p style="margin: 0in 0in 0pt\;">Beer Cheese Fries</p>\n\n<p style="margin: 0in 0in 0pt\;">Mini Pork Tacos</p>\n\n<p style="margin: 0in 0in 0pt\;">Sausage Board</p>\n\n<p style="margin: 0in 0in 0pt\;">Cheese Board</p>\n\n<p style="margin: 0in 0in 0pt\;">Mixed Berry Salad</p>\n
LOCATION:Fifty-Two East Eatery 9621 Mission Gorge Rd #101 Santee\, CA 92071
UID:e.2538.3261
SEQUENCE:3
DTSTAMP:20260423T075339Z
URL:https://santeechamber.com/events/details/syp-lunch-learn-3261
END:VEVENT

END:VCALENDAR
