BEGIN:VCALENDAR
VERSION:2.0
PRODID:-//ChamberMaster//Event Calendar 2.0//EN
METHOD:PUBLISH
X-PUBLISHED-TTL:P3D
REFRESH-INTERVAL:P3D
CALSCALE:GREGORIAN
BEGIN:VEVENT
DTSTART:20190418T183000Z
DTEND:20190418T200000Z
X-MICROSOFT-CDO-ALLDAYEVENT:FALSE
SUMMARY:SYP Lunch & Learn
DESCRIPTION:Join us at Off Broadway Live for an Lunch & Learn.\n\nDarcy Fagerwold will be speaking on "The Most Productive You!"
X-ALT-DESC;FMTTYPE=text/html:Join us at Off Broadway Live for an Lunch&nbsp\;&amp\; Learn.<br />\n<strong>Darcy Fagerwold will be speaking on &quot\;The Most Productive You!&quot\;</strong>
LOCATION:Off Broadway Live 9490 Cuyamaca Street Santee\, CA 92071
UID:e.2538.3258
SEQUENCE:3
DTSTAMP:20260423T101628Z
URL:https://santeechamber.com/events/details/syp-lunch-learn-3258
END:VEVENT

END:VCALENDAR
