BEGIN:VCALENDAR
VERSION:2.0
PRODID:-//ChamberMaster//Event Calendar 2.0//EN
METHOD:PUBLISH
X-PUBLISHED-TTL:P3D
REFRESH-INTERVAL:P3D
CALSCALE:GREGORIAN
BEGIN:VEVENT
DTSTART:20180816T183000Z
DTEND:20180816T193000Z
X-MICROSOFT-CDO-ALLDAYEVENT:FALSE
SUMMARY:SYP Lunch & Learn
DESCRIPTION:Speed network with SYP! Bring your best business tips to share what is currently growing your business during the networking portion.\n\n\n\nLunch will be provided by Carlton Oaks.
X-ALT-DESC;FMTTYPE=text/html:<div data-contents="true">\n<div data-block="true" data-editor="eih5a" data-offset-key="76eh-0-0">\n<div class="_1mf _1mj" data-offset-key="76eh-0-0"><span>Speed network with SYP! Bring your best business tips to share what is currently growing your business during the networking portion.</span><br />\n<br />\nLunch will be provided by Carlton Oaks.</div>\n</div>\n\n<div data-block="true" data-editor="eih5a" data-offset-key="1usvs-0-0">\n<div class="_1mf _1mj" data-offset-key="1usvs-0-0">&nbsp\;</div>\n</div>\n</div>\n
LOCATION:Carlton Oaks Country Club 9200 Inwood Drive Santee\, CA 92071
UID:e.2538.3080
SEQUENCE:3
DTSTAMP:20260424T000734Z
URL:https://santeechamber.com/events/details/syp-lunch-learn-3080
END:VEVENT

END:VCALENDAR
