BEGIN:VCALENDAR
VERSION:2.0
PRODID:-//ChamberMaster//Event Calendar 2.0//EN
METHOD:PUBLISH
X-PUBLISHED-TTL:P3D
REFRESH-INTERVAL:P3D
CALSCALE:GREGORIAN
BEGIN:VEVENT
DTSTART:20180621T183000Z
DTEND:20180621T193000Z
X-MICROSOFT-CDO-ALLDAYEVENT:FALSE
SUMMARY:SYP Lunch & Learn
DESCRIPTION:Join the SYP for a Lunch & Learn where you will learn the value of a Santee Chamber membership! \n\n\n\n \n\n\n\nWhether you are already a Chamber member or thinking of becoming one the presentation will be beneficial to everyone. Santee Chamber membership director\, Liz Shank and Administrative Assistant\, Jennae Gonzalez will be our speakers to answer any questions you may have! \n\n\n\n \n\n\n\nRSVP by Wednesday\, June 20th and get your spot saved for only $15 by clicking on the link or by contacting the Santee Chamber office staff. At the door\, price will increase to $20. \n\n\n\n\nBring plenty of business cards and be ready to make lots of connections!
X-ALT-DESC;FMTTYPE=text/html:<div data-contents="true">\n<div data-block="true" data-editor="eih5a" data-offset-key="76eh-0-0">\n<div class="_1mf _1mj" data-offset-key="76eh-0-0">\n<div data-contents="true">\n<div data-block="true" data-editor="fmk4e" data-offset-key="9g3v6-0-0">\n<div class="_1mf _1mj" data-offset-key="9g3v6-0-0"><span data-offset-key="9g3v6-0-0"><span data-text="true">Join the SYP for a Lunch &amp\; Learn where you will learn the value of a Santee Chamber membership! </span></span></div>\n</div>\n\n<div data-block="true" data-editor="fmk4e" data-offset-key="711kh-0-0">\n<div class="_1mf _1mj" data-offset-key="711kh-0-0">&nbsp\;</div>\n</div>\n\n<div data-block="true" data-editor="fmk4e" data-offset-key="5iv83-0-0">\n<div class="_1mf _1mj" data-offset-key="5iv83-0-0"><span data-offset-key="5iv83-0-0"><span data-text="true">Whether you are already a Chamber member or thinking of becoming one the presentation will be beneficial to everyone. Santee Chamber membership director\, Liz Shank and Administrative Assistant\, Jennae Gonzalez will be our speakers to answer any questions you may have! </span></span></div>\n</div>\n\n<div data-block="true" data-editor="fmk4e" data-offset-key="76g8g-0-0">\n<div class="_1mf _1mj" data-offset-key="76g8g-0-0">&nbsp\;</div>\n</div>\n\n<div data-block="true" data-editor="fmk4e" data-offset-key="1i63o-0-0">\n<div class="_1mf _1mj" data-offset-key="1i63o-0-0"><span data-offset-key="1i63o-0-0"><span data-text="true">RSVP by Wednesday\, June 20th and get your spot saved for only $15 by&nbsp\;clicking on the link or by contacting the Santee Chamber office staff. At the door\, price will increase to $20.&nbsp\;</span></span></div>\n</div>\n</div>\n<br />\nBring plenty of business cards and be ready to make lots of connections!</div>\n</div>\n\n<div data-block="true" data-editor="eih5a" data-offset-key="1usvs-0-0">\n<div class="_1mf _1mj" data-offset-key="1usvs-0-0">&nbsp\;</div>\n</div>\n</div>\n
LOCATION:Off Broadway Live 9490 Cuyamaca Street Santee\, CA 92071
UID:e.2538.3078
SEQUENCE:3
DTSTAMP:20260424T030833Z
URL:https://santeechamber.com/events/details/syp-lunch-learn-3078
END:VEVENT

END:VCALENDAR
