BEGIN:VCALENDAR
VERSION:2.0
PRODID:-//ChamberMaster//Event Calendar 2.0//EN
METHOD:PUBLISH
X-PUBLISHED-TTL:P3D
REFRESH-INTERVAL:P3D
CALSCALE:GREGORIAN
BEGIN:VEVENT
DTSTART:20180419T183000Z
DTEND:20180419T193000Z
X-MICROSOFT-CDO-ALLDAYEVENT:FALSE
SUMMARY:SYP Lunch & Learn
DESCRIPTION:Join us for a SYP Lunch & Learn where you will have the opportunity to hear from Kyle Whissel\, of Whissel Realty\, on Branding your Business!\n\n\n\nBring plenty of business cards and be ready to make lots of connections!
X-ALT-DESC;FMTTYPE=text/html:<div data-contents="true">\n<div data-block="true" data-editor="eih5a" data-offset-key="76eh-0-0">\n<div class="_1mf _1mj" data-offset-key="76eh-0-0">Join us for a SYP Lunch &amp\; Learn where you will have the opportunity to hear from Kyle Whissel\, of Whissel&nbsp\;Realty\,&nbsp\;on Branding your Business!<br />\n<br />\nBring plenty of business cards and be ready to make lots of connections!&nbsp\;</div>\n</div>\n\n<div data-block="true" data-editor="eih5a" data-offset-key="1usvs-0-0">\n<div class="_1mf _1mj" data-offset-key="1usvs-0-0">&nbsp\;</div>\n</div>\n</div>\n
LOCATION:Off Broadway Live 9490 Cuyamaca Street Santee\, CA 92071
UID:e.2538.3058
SEQUENCE:3
DTSTAMP:20260424T062359Z
URL:https://santeechamber.com/events/details/syp-lunch-learn-3058
END:VEVENT

END:VCALENDAR
