BEGIN:VCALENDAR
VERSION:2.0
PRODID:-//ChamberMaster//Event Calendar 2.0//EN
METHOD:PUBLISH
X-PUBLISHED-TTL:P3D
REFRESH-INTERVAL:P3D
CALSCALE:GREGORIAN
BEGIN:VEVENT
DTSTART:20180215T193000Z
DTEND:20180215T203000Z
X-MICROSOFT-CDO-ALLDAYEVENT:FALSE
SUMMARY:SYP Lunch & Learn
DESCRIPTION:Join us for a SYP Lunch & Learn where you will have the opportunity to hear from Sarah Rotter & Kyle Whissel on the ways networking is important! Then you will have the opportunity to do speed networking with those who are attending! Bring plenty of business cards and be ready to make lots of connections! If you pre register AND pay by February 13th you will be entered to win a $25 gift card!
X-ALT-DESC;FMTTYPE=text/html:<div data-contents="true">\n<div data-block="true" data-editor="eih5a" data-offset-key="76eh-0-0">\n<div class="_1mf _1mj" data-offset-key="76eh-0-0">Join us for a SYP Lunch &amp\; Learn where you will have the opportunity to hear from Sarah Rotter &amp\; Kyle Whissel on the ways networking is important!&nbsp\;Then you will have the opportunity to do speed networking with those who are attending! Bring plenty of business cards and be ready to make lots of connections!&nbsp\;If you pre register AND pay by February 13th you will be entered to win a $25 gift card!</div>\n</div>\n\n<div data-block="true" data-editor="eih5a" data-offset-key="1usvs-0-0">\n<div class="_1mf _1mj" data-offset-key="1usvs-0-0">&nbsp\;</div>\n</div>\n</div>\n
LOCATION:Carlton Oaks Country Club 9200 Inwood Dr. Santee\, CA 92071
UID:e.2538.3055
SEQUENCE:3
DTSTAMP:20260424T105355Z
URL:https://santeechamber.com/events/details/syp-lunch-learn-3055
END:VEVENT

END:VCALENDAR
