BEGIN:VCALENDAR
VERSION:2.0
PRODID:-//ChamberMaster//Event Calendar 2.0//EN
METHOD:PUBLISH
X-PUBLISHED-TTL:P3D
REFRESH-INTERVAL:P3D
CALSCALE:GREGORIAN
BEGIN:VEVENT
DTSTART:20170817T183000Z
DTEND:20170817T193000Z
X-MICROSOFT-CDO-ALLDAYEVENT:FALSE
SUMMARY:SYP Lunch & Learn
DESCRIPTION:All are welcome at the August SYP Lunch & Learn!\n\n\n\nJoin top real estate agent\, Kyle Whissel and Bryan Koci\, Media & Marketing Manager for Whissel Realty to get their inside scoop on social media marketing! \n\n\n\nFood provided by The Wrap Shack!\n\n\n\nPre-Registration is required for entrance.
X-ALT-DESC;FMTTYPE=text/html:<p><font color="#4b4f56" face="Helvetica\, Arial\, sans-serif"><span style="font-size: 14px\;">All are welcome at the August&nbsp\;SYP Lunch &amp\; Learn!</span></font><br />\n<br />\nJoin top real estate agent\, Kyle Whissel and Bryan Koci\,&nbsp\;<span style="font-family:calibri\,sans-serif\;"><span style="font-size:11.0pt\;">Media &amp\; Marketing Manager&nbsp\;</span></span><span style="font-family:calibri\,sans-serif\;"><span style="font-size:11.0pt\;">for Whissel&nbsp\;Realty to get their inside scoop on social media marketing!&nbsp\;<br />\n<br />\nFood provided by The Wrap Shack!</span></span><br />\n<br />\nPre-Registration is required for entrance.&nbsp\;</p>\n
LOCATION:Off Broadway Live 9490 Cuyamaca Street Santee\, CA 92071 (Located in Mission Creek Shopping Center near Food 4 Less)
UID:e.2538.3023
SEQUENCE:3
DTSTAMP:20260424T194142Z
URL:https://santeechamber.com/events/details/syp-lunch-learn-3023
END:VEVENT

END:VCALENDAR
