BEGIN:VCALENDAR
VERSION:2.0
PRODID:-//ChamberMaster//Event Calendar 2.0//EN
METHOD:PUBLISH
X-PUBLISHED-TTL:P3D
REFRESH-INTERVAL:P3D
CALSCALE:GREGORIAN
BEGIN:VEVENT
DTSTART:20170615T183000Z
DTEND:20170615T193000Z
X-MICROSOFT-CDO-ALLDAYEVENT:FALSE
SUMMARY:SYP Lunch & Learn
DESCRIPTION:Business owners & top management\, enjoy lunch as you hear from Samuel D. Brotman\, Brotman Law\, about the most dangerous tax situations for business owners. \n\nLearn about:\n\nSales Tax Audit Traps \n\nMisclassified Workers \n\nFailure to Timely Pay Payroll Taxes \n\nWhy Business Owners are Targets for IRS Audits\n\n\n\nEntrance to the Santee Lakes is sponsored by Santee Lakes Recreation Preserve. To enter into the Lakes\, you can either go through the main entrance or the entrance closer to the campground for no cost. The entrance closer to the campground will allow you faster access to the Clubhouse. Please see this map for more information:https://drive.google.com/open?id=1g3fEa1N6YMDnCMSgtAnTc6cyglg&usp=sharing\n\n\n\nPre-Registration is required for entrance.
X-ALT-DESC;FMTTYPE=text/html:<p><span style="color: rgb(75\, 79\, 86)\; font-family: Helvetica\, Arial\, sans-serif\; font-size: 14px\;">Business owners &amp\; top management\, enjoy lunch as you hear from Samuel D. Brotman\,&nbsp\;</span><a data-hovercard="/ajax/hovercard/page.php?id=1377383322512222&amp\;extragetparams=%7B%22directed_target_id%22%3A290215391388677%7D" data-hovercard-prefer-more-content-show="1" href="https://www.facebook.com/brotmanlaw/" style="color: rgb(54\, 88\, 153)\; cursor: pointer\; text-decoration-line: none\; font-family: Helvetica\, Arial\, sans-serif\; font-size: 14px\;">Brotman Law</a><span style="color: rgb(75\, 79\, 86)\; font-family: Helvetica\, Arial\, sans-serif\; font-size: 14px\;">\, about the most dangerous tax situations for business owners.&nbsp\;</span><br style="color: rgb(75\, 79\, 86)\; font-family: Helvetica\, Arial\, sans-serif\; font-size: 14px\;" />\n<span style="color: rgb(75\, 79\, 86)\; font-family: Helvetica\, Arial\, sans-serif\; font-size: 14px\;">Learn about:</span><br style="color: rgb(75\, 79\, 86)\; font-family: Helvetica\, Arial\, sans-serif\; font-size: 14px\;" />\n<span style="color: rgb(75\, 79\, 86)\; font-family: Helvetica\, Arial\, sans-serif\; font-size: 14px\;">Sales Tax Audit Traps&nbsp\;</span><br style="color: rgb(75\, 79\, 86)\; font-family: Helvetica\, Arial\, sans-serif\; font-size: 14px\;" />\n<span style="color: rgb(75\, 79\, 86)\; font-family: Helvetica\, Arial\, sans-serif\; font-size: 14px\;">Misclassified Workers&nbsp\;</span><br style="color: rgb(75\, 79\, 86)\; font-family: Helvetica\, Arial\, sans-serif\; font-size: 14px\;" />\n<span style="color: rgb(75\, 79\, 86)\; font-family: Helvetica\, Arial\, sans-serif\; font-size: 14px\;">Failure to Timely Pay Payroll Taxes&nbsp\;</span><br style="color: rgb(75\, 79\, 86)\; font-family: Helvetica\, Arial\, sans-serif\; font-size: 14px\;" />\n<span style="color: rgb(75\, 79\, 86)\; font-family: Helvetica\, Arial\, sans-serif\; font-size: 14px\;">Why Business Owners are Targets for IRS Audits</span><br style="color: rgb(75\, 79\, 86)\; font-family: Helvetica\, Arial\, sans-serif\; font-size: 14px\;" />\n<br style="color: rgb(75\, 79\, 86)\; font-family: Helvetica\, Arial\, sans-serif\; font-size: 14px\;" />\n<span style="color: rgb(75\, 79\, 86)\; font-family: Helvetica\, Arial\, sans-serif\; font-size: 14px\;">Entrance to the Santee Lakes is sponsored by Santee Lakes Recreation Preserve. To enter into the Lakes\, you can either go through the main entrance or the entrance closer to the campground for no cost. The entrance closer to the campground will allow you faster access to the Clubhouse. Please see this map for more information:</span><a href="https://drive.google.com/open?id=1g3fEa1N6YMDnCMSgtAnTc6cyglg&amp\;usp=sharing" rel="nofollow noopener nofollow" style="color: rgb(54\, 88\, 153)\; cursor: pointer\; text-decoration-line: none\; font-family: Helvetica\, Arial\, sans-serif\; font-size: 14px\;" target="_blank"><span style="font-family: inherit\;">https://drive.google.com/</span><wbr /><span style="font-family: inherit\;">open?id=</span><span style="font-family: inherit\;">1g3fEa1N6YMDnCMSgtA</span><wbr />nTc6cyglg&amp\;usp=sharing</a><br />\n<br />\nPre-Registration is required for entrance.&nbsp\;</p>\n
LOCATION:Clubhouse at Santee Lakes 9310 Fanita Parkway Santee\, CA 92071
UID:e.2538.3019
SEQUENCE:3
DTSTAMP:20260424T234518Z
URL:https://santeechamber.com/events/details/syp-lunch-learn-3019
END:VEVENT

END:VCALENDAR
