BEGIN:VCALENDAR
VERSION:2.0
PRODID:-//ChamberMaster//Event Calendar 2.0//EN
METHOD:PUBLISH
X-PUBLISHED-TTL:P3D
REFRESH-INTERVAL:P3D
CALSCALE:GREGORIAN
BEGIN:VEVENT
DTSTART:20170427T183000Z
DTEND:20170427T193000Z
X-MICROSOFT-CDO-ALLDAYEVENT:FALSE
SUMMARY:SYP Lunch & Learn
DESCRIPTION:Join as the Santee Young Professionals learn how giving back and getting involved in help you\, your business\, and the Santee community from Dustin Trotter and a few key guest speakers.     \n\n\n\nPre-Registration is required for entrance.
X-ALT-DESC;FMTTYPE=text/html:<p>Join as the Santee Young Professionals learn how giving back and getting involved in help you\, your business\, and the Santee&nbsp\;community from Dustin Trotter and a few key guest speakers. &nbsp\;&nbsp\;&nbsp\;&nbsp\;<br />\n<br />\nPre-Registration is required for entrance.&nbsp\;</p>\n
LOCATION:Clubhouse at Santee Lakes 9310 Fanita Parkway Santee\, CA 92071
UID:e.2538.3016
SEQUENCE:3
DTSTAMP:20260425T012149Z
URL:https://santeechamber.com/events/details/syp-lunch-learn-3016
END:VEVENT

END:VCALENDAR
