BEGIN:VCALENDAR
VERSION:2.0
PRODID:-//ChamberMaster//Event Calendar 2.0//EN
METHOD:PUBLISH
X-PUBLISHED-TTL:P3D
REFRESH-INTERVAL:P3D
CALSCALE:GREGORIAN
BEGIN:VEVENT
DTSTART:20171214T193000Z
DTEND:20171214T203000Z
X-MICROSOFT-CDO-ALLDAYEVENT:FALSE
SUMMARY:SYP Lunch & Learn
DESCRIPTION:One of the reasons your clients come back (and send you referrals) is because of the excellent customer experience you provide. But how do you continue to scale your business and make sure every team member is living out your vision\, keeping service levels a top priority?\n\n\n\n \n\n\n\nIn this interactive workshop\, Karie Kaufmann will teach you the steps to create WOW for your clients\, and systemize it for consistency - no matter the size of your business.\n\n\n\nYou'll walk away knowing:\n\n\n\n\n	The 1% shifts that make the difference between good customer service and WOW\n	Creating systems that enhance (rather than diminish) the relationship \n	How to create service-level systems and get your team to use them
X-ALT-DESC;FMTTYPE=text/html:<div data-contents="true">\n<div data-block="true" data-editor="eih5a" data-offset-key="76eh-0-0">\n<div class="_1mf _1mj" data-offset-key="76eh-0-0"><span data-offset-key="76eh-0-0"><span data-text="true">One of the reasons your clients come back (and send you referrals) is because of the excellent customer experience you provide. But how do you continue to scale your business and make sure every team member is living out your vision\, keeping service levels a top priority?</span></span></div>\n</div>\n\n<div data-block="true" data-editor="eih5a" data-offset-key="1usvs-0-0">\n<div class="_1mf _1mj" data-offset-key="1usvs-0-0">&nbsp\;</div>\n</div>\n\n<div data-block="true" data-editor="eih5a" data-offset-key="2v7dc-0-0">\n<div class="_1mf _1mj" data-offset-key="2v7dc-0-0"><span data-offset-key="2v7dc-0-0"><span data-text="true">In this interactive workshop\, Karie Kaufmann will teach you the steps to create WOW&nbsp\;for your clients\, and systemize it for consistency - no matter the size of your business.</span></span></div>\n</div>\n\n<div data-block="true" data-editor="eih5a" data-offset-key="dtrdh-0-0">\n<div class="_1mf _1mj" data-offset-key="dtrdh-0-0"><span data-offset-key="dtrdh-0-0"><span data-text="true">You&#39\;ll walk away knowing:</span></span></div>\n</div>\n\n<div data-block="true" data-editor="eih5a" data-offset-key="f5of6-0-0">\n<ul>\n	<li class="_1mf _1mj" data-offset-key="f5of6-0-0"><span data-offset-key="f5of6-0-0"><span data-text="true">The 1% shifts that make the difference between good customer service&nbsp\;and WOW</span></span></li>\n	<li class="_1mf _1mj" data-offset-key="f5of6-0-0"><span data-offset-key="9ico5-0-0"><span data-text="true">Creating systems that enhance (rather than diminish) the relationship&nbsp\;</span></span></li>\n	<li class="_1mf _1mj" data-offset-key="f5of6-0-0"><span data-offset-key="40j5v-0-0"><span data-text="true">How to create service-level systems and get your team to use them</span></span></li>\n</ul>\n</div>\n</div>\n
LOCATION:Off Broadway Live 9490 Cuyamaca St. Santee\, CA 92071
UID:e.2538.3046
SEQUENCE:3
DTSTAMP:20260424T131341Z
URL:https://santeechamber.com/events/details/syp-lunch-learn-12-14-2017-3046
END:VEVENT

END:VCALENDAR
