BEGIN:VCALENDAR
VERSION:2.0
PRODID:-//ChamberMaster//Event Calendar 2.0//EN
METHOD:PUBLISH
X-PUBLISHED-TTL:P3D
REFRESH-INTERVAL:P3D
CALSCALE:GREGORIAN
BEGIN:VEVENT
DTSTART:20180913T003000Z
DTEND:20180913T033000Z
X-MICROSOFT-CDO-ALLDAYEVENT:FALSE
SUMMARY:SYP Cornhole Tournament
DESCRIPTION:Grab a friend for a team of two to play in our cornhole tournament at Sportsplex USA while enjoying casual networking! The winning team of the tournament will receive 50/50 prize winnings.
X-ALT-DESC;FMTTYPE=text/html:<span style="color: rgb(29\, 33\, 41)\; font-family: Helvetica\, Arial\, sans-serif\; font-size: 12px\; white-space: pre-wrap\;">Grab a friend for a team of two to play in our cornhole tournament at Sportsplex USA while enjoying casual networking! The winning team of the tournament will receive 50/50 prize winnings. </span>&nbsp\;<br />\n&nbsp\;
LOCATION:Sportsplex USA Santee 9951 Riverwalk Drive Santee\, CA 92071
UID:e.2538.3082
SEQUENCE:3
DTSTAMP:20260423T215845Z
URL:https://santeechamber.com/events/details/syp-cornhole-tournament-3082
END:VEVENT

END:VCALENDAR
