BEGIN:VCALENDAR
VERSION:2.0
PRODID:-//ChamberMaster//Event Calendar 2.0//EN
METHOD:PUBLISH
X-PUBLISHED-TTL:P3D
REFRESH-INTERVAL:P3D
CALSCALE:GREGORIAN
BEGIN:VEVENT
DTSTART:20181113T153000Z
DTEND:20181113T170000Z
X-MICROSOFT-CDO-ALLDAYEVENT:FALSE
SUMMARY:Sunrise Santee- Omelette Factory
DESCRIPTION:This month the Sunrise Santee will be held at the Omlette Factory. Our speaker will be Darcey Fagerwold with Expression Dance & Movement Center. Her talk will be on How to limit distractions\, get clear about priorities\, and work smarter. I give specific strategies for planning and prioritizing\, getting the most out of your work hours\, and how to lead a productive team.
X-ALT-DESC;FMTTYPE=text/html:<span style="font-family: arial\;"><span style="font-size: 12px\;">This month the Sunrise Santee will be held at the Omlette Factory. Our speaker will be Darcey Fagerwold with Expression Dance &amp\; Movement Center. Her talk will be on&nbsp\;How to limit distractions\, get clear about priorities\, and work smarter. I give specific strategies for planning and prioritizing\, getting the most out of your work hours\, and how to lead a productive team.</span></span>
LOCATION:Omlette Factory 8860 Magolia Ave. Santee\, Ca. 92071
UID:e.2538.3230
SEQUENCE:3
DTSTAMP:20260423T172334Z
URL:https://santeechamber.com/events/details/sunrise-santee-omelette-factory-3230
END:VEVENT

END:VCALENDAR
