BEGIN:VCALENDAR
VERSION:2.0
PRODID:-//ChamberMaster//Event Calendar 2.0//EN
METHOD:PUBLISH
X-PUBLISHED-TTL:P3D
REFRESH-INTERVAL:P3D
CALSCALE:GREGORIAN
BEGIN:VEVENT
DTSTART:20190710T203000Z
DTEND:20190710T223000Z
X-MICROSOFT-CDO-ALLDAYEVENT:FALSE
SUMMARY:Sunrise Santee- Creating a Capabilities Statement for Marketing to the Government
DESCRIPTION:A capability statement is a useful marketing tool. It is a succinct document that describes your company's core strengths and capabilities\, highlighting what your company can do for potential government customers and reflecting on your past successes. A well-written capability statement can be distributed to potential government customers in a number of ways and can quickly answer their question of why they should buy from you\, rather than your competition. Join us at the Santee Chamber of Commerce as Mike Sabellico\, Senior Procurement Advisor at San Diego\, Orange\, Imperial PTAC\, presents how to create an outstanding Capability Statement.
X-ALT-DESC;FMTTYPE=text/html:<span style="color: black\;"><span style="font-family: calibri\,sans-serif\;"><span style="font-size: 11pt\;">A capability statement is a useful marketing tool. It is a succinct document that describes your company&rsquo\;s core strengths and capabilities\, highlighting what your company can do for potential government customers and reflecting on your past successes. A well-written capability statement can be distributed to potential government customers in a number of ways and can quickly answer their question of why they should buy from you\, rather than your competition. Join us at the Santee Chamber of Commerce as Mike Sabellico\, Senior Procurement Advisor at San Diego\, Orange\, Imperial PTAC\, presents how to create an outstanding Capability Statement.&nbsp\;</span></span></span>
LOCATION:Santee Chamber of Commerce 10159 Mission Gorge Rd\, Suite F Santee\, CA 92071
UID:e.2538.3264
SEQUENCE:3
DTSTAMP:20260423T052430Z
URL:https://santeechamber.com/events/details/sunrise-santee-creating-a-capabilities-statement-for-marketing-to-the-government-3264
END:VEVENT

END:VCALENDAR
