BEGIN:VCALENDAR
VERSION:2.0
PRODID:-//ChamberMaster//Event Calendar 2.0//EN
METHOD:PUBLISH
X-PUBLISHED-TTL:P3D
REFRESH-INTERVAL:P3D
CALSCALE:GREGORIAN
BEGIN:VEVENT
DTSTART:20180918T143000Z
DTEND:20180918T160000Z
X-MICROSOFT-CDO-ALLDAYEVENT:FALSE
SUMMARY:Sunrise Santee
DESCRIPTION:Speaker: Louis Nava\, Local Google Specialist\n\nTopic: Get Your Business Online\n\n\n\nReview your business listing to improve your visibility online! Bring your laptop or internet-connecting device for one-to-one interaction during this workshop with local google specialist\, Louis Nava!
X-ALT-DESC;FMTTYPE=text/html:<strong>Speaker:</strong>&nbsp\;Louis Nava\, Local Google Specialist<br />\n<strong>Topic: </strong>Get Your Business Online<br />\n<br />\nReview your business listing to improve your&nbsp\;visibility online!&nbsp\;Bring your laptop or internet-connecting device for one-to-one interaction during this workshop with local google specialist\, Louis Nava!
LOCATION:Santee Chamber of Commerce Business Resource Center 10159 Mission Gorge Road\, Suite F Santee\, CA 92071
UID:e.2538.3221
SEQUENCE:3
DTSTAMP:20260423T221442Z
URL:https://santeechamber.com/events/details/sunrise-santee-3221
END:VEVENT

END:VCALENDAR
