BEGIN:VCALENDAR
VERSION:2.0
PRODID:-//ChamberMaster//Event Calendar 2.0//EN
METHOD:PUBLISH
X-PUBLISHED-TTL:P3D
REFRESH-INTERVAL:P3D
CALSCALE:GREGORIAN
BEGIN:VEVENT
DTSTART:20180725T153000Z
DTEND:20180725T173000Z
X-MICROSOFT-CDO-ALLDAYEVENT:FALSE
SUMMARY:Sunrise Santee
DESCRIPTION:Speaker: Santee Chamber Office Staff\n\nTopic: \nOur July Sunrise Santee has been RESCHEDULED!\n\n \n\nSharpen your pencils and join the Santee Chamber for Small Business Summer School on Wednesday\, July 25th at 8:30am! Google\, Constant Contact\, LinkedIn\, and Vistaprint will join forces for a livestream workshop.\n\n \n\nBusinesses will learn how to standout online\, build customer relationships and get ready for a successful holiday season.
X-ALT-DESC;FMTTYPE=text/html:<strong>Speaker:</strong>&nbsp\;Santee Chamber Office Staff<br />\n<strong>Topic: </strong>\n<div style="text-align: center\;">Our July Sunrise Santee has been <span style="font-weight: bold\;">RESCHEDULED</span>!</div>\n\n<div>&nbsp\;</div>\n\n<div>Sharpen your pencils and join the Santee Chamber for Small Business Summer School on <strong>Wednesday\, July 25th </strong>at 8:30am! Google\, Constant Contact\, LinkedIn\, and Vistaprint will join forces for a livestream workshop.</div>\n\n<div>&nbsp\;</div>\n\n<div>Businesses will learn how to standout online\, build customer relationships and get ready for a successful holiday season.</div>\n
LOCATION:Santee Chamber of Commerce 10159 Mission Gorge Road\, Suite F Santee\, CA 92071
UID:e.2538.3092
SEQUENCE:3
DTSTAMP:20260424T013755Z
URL:https://santeechamber.com/events/details/sunrise-santee-3092
END:VEVENT

END:VCALENDAR
