BEGIN:VCALENDAR
VERSION:2.0
PRODID:-//ChamberMaster//Event Calendar 2.0//EN
METHOD:PUBLISH
X-PUBLISHED-TTL:P3D
REFRESH-INTERVAL:P3D
CALSCALE:GREGORIAN
BEGIN:VEVENT
DTSTART:20180116T153000Z
DTEND:20180116T164500Z
X-MICROSOFT-CDO-ALLDAYEVENT:FALSE
SUMMARY:Sunrise Santee
DESCRIPTION:Enjoy networking and a presentation over breakfast. \n\n\n\nSpeaker: Chris Nance- Chief Communications Officer California Earthquake Authority\n\n Topic: Earthquake Preparedness
X-ALT-DESC;FMTTYPE=text/html:Enjoy networking and a presentation over breakfast.&nbsp\;<br />\n<br />\n<strong>Speaker:</strong>&nbsp\;Chris Nance- <span style="color: rgb(51\, 51\, 51)\; font-family: sans-serif\, Arial\, Verdana\, &quot\;Trebuchet MS&quot\;\; font-size: 13px\; background-color: rgb(255\, 255\, 255)\;">Chief Communications Officer California Earthquake </span><span style="color: rgb(51\, 51\, 51)\; font-family: sans-serif\, Arial\, Verdana\, &quot\;Trebuchet MS&quot\;\; font-size: 13px\; background-color: rgb(255\, 255\, 255)\;">Authority<br />\n&#8203\;</span><strong>Topic</strong><strong>:</strong>&nbsp\;Earthquake Preparedness
LOCATION:Omelette Factory 8860 N. Magnoia Ave. Santee\, CA 92071
UID:e.2538.2887
SEQUENCE:3
DTSTAMP:20260424T105508Z
URL:https://santeechamber.com/events/details/sunrise-santee-2887
END:VEVENT

END:VCALENDAR
