BEGIN:VCALENDAR
VERSION:2.0
PRODID:-//ChamberMaster//Event Calendar 2.0//EN
METHOD:PUBLISH
X-PUBLISHED-TTL:P3D
REFRESH-INTERVAL:P3D
CALSCALE:GREGORIAN
BEGIN:VEVENT
DTSTART:20180515T143000Z
DTEND:20180515T154500Z
X-MICROSOFT-CDO-ALLDAYEVENT:FALSE
SUMMARY:Sunrise Santee
DESCRIPTION:Enjoy networking and a presentation over breakfast. \n\n\n\nSpeaker: City Manager\, Marlene Best\n\nTopic: District Zoning that was adopted at the City Council meeting. In addition\, Marlene will be discussing other topics related to what is going on in the city NOW!
X-ALT-DESC;FMTTYPE=text/html:Enjoy networking and a presentation over breakfast.&nbsp\;<br />\n<br />\n<strong>Speaker:</strong>&nbsp\;City Manager\, Marlene Best<br />\n<strong>Topic:</strong>&nbsp\;District Zoning that was adopted at the City Council meeting. In addition\, Marlene will be discussing other topics related to what is going on in the city NOW!
LOCATION:Omelette Factory 8860 N Magnolia Ave. Santee\, CA 92071
UID:e.2538.2891
SEQUENCE:3
DTSTAMP:20260424T044656Z
URL:https://santeechamber.com/events/details/sunrise-santee-05-15-2018-2891
END:VEVENT

END:VCALENDAR
