BEGIN:VCALENDAR
VERSION:2.0
PRODID:-//ChamberMaster//Event Calendar 2.0//EN
METHOD:PUBLISH
X-PUBLISHED-TTL:P3D
REFRESH-INTERVAL:P3D
CALSCALE:GREGORIAN
BEGIN:VEVENT
DTSTART:20180417T143000Z
DTEND:20180417T154500Z
X-MICROSOFT-CDO-ALLDAYEVENT:FALSE
SUMMARY:Sunrise Santee
DESCRIPTION:Enjoy networking and a presentation over breakfast. \n\n\n\nSpeaker: New York Life Insurance     \n\nTopic: Breaking the Tax Cycle
X-ALT-DESC;FMTTYPE=text/html:Enjoy networking and a presentation over breakfast.&nbsp\;<br />\n<br />\n<strong>Speaker:</strong>&nbsp\;New York Life Insurance&nbsp\;&nbsp\;&nbsp\;&nbsp\;&nbsp\;<br />\n<strong>Topic:</strong>&nbsp\;Breaking the Tax Cycle
LOCATION:The Omelette Factory 8860 Magnolia Avenue Santee\, CA 92071
UID:e.2538.2890
SEQUENCE:3
DTSTAMP:20260424T061748Z
URL:https://santeechamber.com/events/details/sunrise-santee-04-17-2018-2890
END:VEVENT

END:VCALENDAR
