BEGIN:VCALENDAR
VERSION:2.0
PRODID:-//ChamberMaster//Event Calendar 2.0//EN
METHOD:PUBLISH
X-PUBLISHED-TTL:P3D
REFRESH-INTERVAL:P3D
CALSCALE:GREGORIAN
BEGIN:VEVENT
DTSTART:20180220T153000Z
DTEND:20180220T164500Z
X-MICROSOFT-CDO-ALLDAYEVENT:FALSE
SUMMARY:Sunrise Santee
DESCRIPTION:Speaker: Danea Ramos\, Business Development Associate\, Accion \n\nTopic: Tips to Fund your New or Growing Business\n\n \n\nEnjoy networking and a presentation over breakfast. Accion is a non-profit microlender that creates economic opportunity by partnering with small business owners. Please join us Tuesday\, February 20 to learn Tips to Fund your New or Growing Business with Danea Ramos\, Business Development Associate in San Diego County. She joined Accion in July of 2016\, after working internationally with a start-up business. It was then that she fell in love with helping small business owners succeed with Access to capital when thriving to start or fund their business.
X-ALT-DESC;FMTTYPE=text/html:<strong>Speaker:</strong>&nbsp\;Danea<span style="font-family: calibri\, sans-serif\; font-size: 14.66px\;">&nbsp\;Ramos\, Business Development Associate\,&nbsp\;Accion&nbsp\;</span><br />\n<strong>Topic:</strong>&nbsp\;<span style="font-family: calibri\, sans-serif\; font-size: 14.66px\;">Tips to Fund your New or Growing </span><span style="font-family: calibri\, sans-serif\; font-size: 14.66px\;">Business<br />\n&#8203\;</span><br />\nEnjoy networking and a presentation over breakfast.&nbsp\;<span style="font-family: calibri\,sans-serif\;"><span style="font-size: 11pt\;">Accion is a non-profit microlender that creates economic opportunity by partnering with small business owners. Please join us Tuesday\, February 20 to learn Tips to Fund your New or Growing Business with Danea Ramos\, Business Development Associate in San Diego County. She joined Accion in July of 2016\, after working internationally with a start-up business. It was then that she fell in love with helping small business owners succeed with Access to capital when thriving to start or fund their business. </span></span>
LOCATION:Omelette Factory 8860 N. Magnolia Ave. Santee\, CA 92071
UID:e.2538.2888
SEQUENCE:3
DTSTAMP:20260424T090327Z
URL:https://santeechamber.com/events/details/sunrise-santee-02-20-2018-2888
END:VEVENT

END:VCALENDAR
