BEGIN:VCALENDAR
VERSION:2.0
PRODID:-//ChamberMaster//Event Calendar 2.0//EN
METHOD:PUBLISH
X-PUBLISHED-TTL:P3D
REFRESH-INTERVAL:P3D
CALSCALE:GREGORIAN
BEGIN:VEVENT
DTSTART:20190427T190000Z
DTEND:20190427T230000Z
X-MICROSOFT-CDO-ALLDAYEVENT:FALSE
SUMMARY:Summer Safety Splash Tour
DESCRIPTION:Summer Safety Splash Tour: The YMCA and City of San Diego are hosting free community events in an effort to help spread water safety awareness and prevent drowning. All events are open to the public and will include fun and interactive booths\, free sunscreen and prizes\, recreational swim time\, tests for water competency\, life jacket safety\, games and crafts\, CPR demos and more. Light refreshments will be provided. For more information\, visit www.ymca.org/splashtour.
X-ALT-DESC;FMTTYPE=text/html:Summer Safety Splash Tour: The YMCA and City of San Diego are hosting free community events in an effort to help spread water safety awareness and prevent drowning. All events are open to the public and will include fun and interactive booths\, free sunscreen and prizes\, recreational swim time\, tests for water competency\, life jacket safety\, games and crafts\, CPR demos and more. Light refreshments will be provided. For more information\, visit www.ymca.org/splashtour.
LOCATION:Cameron Family YMCA
UID:e.2538.3459
SEQUENCE:3
DTSTAMP:20260423T112237Z
URL:https://santeechamber.com/events/details/summer-safety-splash-tour-3459
END:VEVENT

END:VCALENDAR
