BEGIN:VCALENDAR
VERSION:2.0
PRODID:-//ChamberMaster//Event Calendar 2.0//EN
METHOD:PUBLISH
X-PUBLISHED-TTL:P3D
REFRESH-INTERVAL:P3D
CALSCALE:GREGORIAN
BEGIN:VEVENT
DTSTART:20161001T130000Z
DTEND:20161003T000000Z
X-MICROSOFT-CDO-ALLDAYEVENT:FALSE
SUMMARY:Stockzilla
DESCRIPTION:The Lakes will receive their largest fish stock ever!!! Large quantities of Catfish will be stocked in all seven lakes.
X-ALT-DESC;FMTTYPE=text/html:The Lakes will receive their largest fish stock ever!!! Large quantities of Catfish will be stocked in all seven lakes.
LOCATION:Santee Lakes
UID:e.2538.2833
SEQUENCE:3
DTSTAMP:20260425T105344Z
URL:https://santeechamber.com/events/details/stockzilla-10-01-2016-2833
END:VEVENT

END:VCALENDAR
