BEGIN:VCALENDAR
VERSION:2.0
PRODID:-//ChamberMaster//Event Calendar 2.0//EN
METHOD:PUBLISH
X-PUBLISHED-TTL:P3D
REFRESH-INTERVAL:P3D
CALSCALE:GREGORIAN
BEGIN:VEVENT
DTSTART:20190516T003000Z
DTEND:20190516T020000Z
X-MICROSOFT-CDO-ALLDAYEVENT:FALSE
SUMMARY:Sip with SYP
DESCRIPTION:Join SYP at the new Elicit Bar and Lounge at Sycuan Casino. We welcome all 21+ to enjoy the beautiful pool and garden patio views with hosted appetizers. Don't miss out on a fun evening with SYP while making new connections!\n\n\n\nThis is a no-cost event for Chamber members.
X-ALT-DESC;FMTTYPE=text/html:<span style="color: rgb(29\, 33\, 41)\; font-family: 'Helvetica Neue'\, Helvetica\, Arial\, sans-serif\; font-size: 14px\;">Join SYP at the new Elicit Bar and Lounge at Sycuan Casino. We welcome all 21+ to enjoy the beautiful pool and garden patio views with hosted appetizers. Don&#39\;t miss out on a fun evening with SYP while making new connections!</span><br />\n<br />\n<span style="color: rgb(255\, 0\, 0)\;"><span style="font-family: &quot\;Helvetica Neue&quot\;\, Helvetica\, Arial\, sans-serif\; font-size: 14px\;">This is a no-cost event for Chamber members.&nbsp\;</span></span>
LOCATION:Elicit Bar and Lounge at Sycuan Casino 5469 Casino Way
UID:e.2538.3259
SEQUENCE:3
DTSTAMP:20260423T083055Z
URL:https://santeechamber.com/events/details/sip-with-syp-3259
END:VEVENT

END:VCALENDAR
