BEGIN:VCALENDAR
VERSION:2.0
PRODID:-//ChamberMaster//Event Calendar 2.0//EN
METHOD:PUBLISH
X-PUBLISHED-TTL:P3D
REFRESH-INTERVAL:P3D
CALSCALE:GREGORIAN
BEGIN:VEVENT
DTSTART:20190321T003000Z
DTEND:20190321T020000Z
X-MICROSOFT-CDO-ALLDAYEVENT:FALSE
SUMMARY:Sip with SYP
DESCRIPTION:Come out and enjoy some casual networking\, snacks\, and beverages with East County's most referred young professionals network - SYP.\n\nPass business tips\, referrals\, and mingle with SYP at Copper Collar Distillery.\n\nThis is a no-cost event for Chamber members.
X-ALT-DESC;FMTTYPE=text/html:<span style="color: rgb(75\, 79\, 86)\; font-family: &quot\;Helvetica Neue&quot\;\, Helvetica\, Arial\, sans-serif\; font-size: 14px\;">Come out and enjoy some casual networking\, snacks\, and beverages with East County&#39\;s most referred young professionals network - SYP.</span><br style="color: rgb(75\, 79\, 86)\; font-family: &quot\;Helvetica Neue&quot\;\, Helvetica\, Arial\, sans-serif\; font-size: 14px\;" />\n<span style="color: rgb(75\, 79\, 86)\; font-family: &quot\;Helvetica Neue&quot\;\, Helvetica\, Arial\, sans-serif\; font-size: 14px\;">Pass business tips\, referrals\, and mingle with SYP at Copper Collar Distillery.</span><br />\n<span style="color: rgb(255\, 0\, 0)\;"><span style="font-family: &quot\;Helvetica Neue&quot\;\, Helvetica\, Arial\, sans-serif\; font-size: 14px\;">This is a no-cost event for Chamber members.&nbsp\;</span></span>
LOCATION:Copper Collar Distillery 8733 N. Magnolia Ave.\, Ste. 126
UID:e.2538.3255
SEQUENCE:3
DTSTAMP:20260423T112012Z
URL:https://santeechamber.com/events/details/sip-with-syp-3255
END:VEVENT

END:VCALENDAR
