BEGIN:VCALENDAR
VERSION:2.0
PRODID:-//ChamberMaster//Event Calendar 2.0//EN
METHOD:PUBLISH
X-PUBLISHED-TTL:P3D
REFRESH-INTERVAL:P3D
CALSCALE:GREGORIAN
BEGIN:VEVENT
DTSTART:20180712T003000Z
DTEND:20180712T020000Z
X-MICROSOFT-CDO-ALLDAYEVENT:FALSE
SUMMARY:Sip with SYP
DESCRIPTION:Join us for networking with the Santee Young Professionals group at Council Brewing! Bring your business cards and get ready to make some connections!\n\n\n\nThis is a no-charge event for Santee Chamber of Commerce members. Non-members entrance fee is $10.
X-ALT-DESC;FMTTYPE=text/html:<div class="_63ew"><span>Join us for networking with the Santee Young Professionals group at Council Brewing! Bring your business cards and get ready to make some connections!<br />\n<br />\nThis is a no-charge event for Santee Chamber of Commerce members. Non-members entrance fee is $10.</span></div>\n
LOCATION:Council Brewing 9962 Prospect Avenue\, Suite E Santee\, CA 92071
UID:e.2538.3081
SEQUENCE:3
DTSTAMP:20260424T013923Z
URL:https://santeechamber.com/events/details/sip-with-syp-3081
END:VEVENT

END:VCALENDAR
