BEGIN:VCALENDAR
VERSION:2.0
PRODID:-//ChamberMaster//Event Calendar 2.0//EN
METHOD:PUBLISH
X-PUBLISHED-TTL:P3D
REFRESH-INTERVAL:P3D
CALSCALE:GREGORIAN
BEGIN:VEVENT
DTSTART:20180503T003000Z
DTEND:20180503T023000Z
X-MICROSOFT-CDO-ALLDAYEVENT:FALSE
SUMMARY:Sip with SYP
DESCRIPTION:Join East County's ONLY Young Professionals group for a Putting Contest and Trivia Mixer at Carlton Oaks Golf Course! \n\n\n\n \n\n\n\nTimeline:\n\n\n\n- 5:30pm - 6:00pm: Networking\n\n\n\n- 6:00pm - 6:30pm: Putting Contest\n\n\n\n- 6:30pm - 7:00pm: Trivia Mixer\n\n\n\n- 7:00pm - 7:30pm: Networking\n\n \n\nBring your business cards and be prepared to make connections!\n\n\n\nThis is a no-cost event for Santee Chamber members.
X-ALT-DESC;FMTTYPE=text/html:<div data-block="true" data-editor="1bhn" data-offset-key="7tbrs-0-0">\n<div class="_1mf _1mj" data-offset-key="7tbrs-0-0"><span data-offset-key="7tbrs-0-0"><span data-text="true">Join East County&#39\;s ONLY Young Professionals group for a Putting Contest and Trivia Mixer at Carlton Oaks Golf Course! </span></span></div>\n</div>\n\n<div data-block="true" data-editor="1bhn" data-offset-key="5f7mk-0-0">\n<div class="_1mf _1mj" data-offset-key="5f7mk-0-0">&nbsp\;</div>\n</div>\n\n<div data-block="true" data-editor="1bhn" data-offset-key="8ffi-0-0">\n<div class="_1mf _1mj" data-offset-key="8ffi-0-0"><span data-offset-key="8ffi-0-0"><span data-text="true">Timeline:</span></span></div>\n</div>\n\n<div data-block="true" data-editor="1bhn" data-offset-key="2e6bb-0-0">\n<div class="_1mf _1mj" data-offset-key="2e6bb-0-0"><span data-offset-key="2e6bb-0-0"><span data-text="true">- 5:30pm - 6:00pm: Networking</span></span></div>\n</div>\n\n<div data-block="true" data-editor="1bhn" data-offset-key="7mu01-0-0">\n<div class="_1mf _1mj" data-offset-key="7mu01-0-0"><span data-offset-key="7mu01-0-0"><span data-text="true">- 6:00pm - 6:30pm: Putting Contest</span></span></div>\n</div>\n\n<div data-block="true" data-editor="1bhn" data-offset-key="2etrk-0-0">\n<div class="_1mf _1mj" data-offset-key="2etrk-0-0"><span data-offset-key="2etrk-0-0"><span data-text="true">- 6:30pm - 7:00pm: Trivia Mixer</span></span></div>\n</div>\n\n<div data-block="true" data-editor="1bhn" data-offset-key="cvqj2-0-0">\n<div class="_1mf _1mj" data-offset-key="cvqj2-0-0"><span data-offset-key="cvqj2-0-0"><span data-text="true">- 7:00pm - 7:30pm: Networking</span></span></div>\n</div>\n<span style="color: rgb(75\, 79\, 86)\; font-family: &quot\;Helvetica Neue&quot\;\, Helvetica\, Arial\, sans-serif\; font-size: 14px\;">&nbsp\;</span><br />\n<span style="color: rgb(75\, 79\, 86)\; font-family: Helvetica\, Arial\, sans-serif\; font-size: 14px\;">Bring your business cards and be prepared to make connections!</span><br />\n<br />\n<span style="color: rgb(255\, 0\, 0)\;"><span style="font-family: &quot\;Helvetica Neue&quot\;\, Helvetica\, Arial\, sans-serif\; font-size: 14px\;">This is a no-cost event for Santee Chamber members.&nbsp\;</span></span>
LOCATION:Carlton Oaks Country Club 9200 Inwood Dr. Santee\, California 92071
UID:e.2538.3076
SEQUENCE:3
DTSTAMP:20260424T044523Z
URL:https://santeechamber.com/events/details/sip-with-syp-3076
END:VEVENT

END:VCALENDAR
