BEGIN:VCALENDAR
VERSION:2.0
PRODID:-//ChamberMaster//Event Calendar 2.0//EN
METHOD:PUBLISH
X-PUBLISHED-TTL:P3D
REFRESH-INTERVAL:P3D
CALSCALE:GREGORIAN
BEGIN:VEVENT
DTSTART:20180308T013000Z
DTEND:20180308T030000Z
X-MICROSOFT-CDO-ALLDAYEVENT:FALSE
SUMMARY:Sip with SYP
DESCRIPTION:Come out and enjoy some casual networking\, food\, and beverages at Sycuan Casino's Game Day Sports Bar with East County's most referred young professionals network - SYP. Bring your business cards and be prepared to make connections!\n\n\n\nThis is a no-cost event for Santee & East County Chamber members.
X-ALT-DESC;FMTTYPE=text/html:<span style="color: rgb(75\, 79\, 86)\; font-family: &quot\;Helvetica Neue&quot\;\, Helvetica\, Arial\, sans-serif\; font-size: 14px\;">Come out and enjoy some casual networking\, food\, and beverages at Sycuan&nbsp\;Casino&#39\;s Game Day Sports Bar with East County&#39\;s most referred young professionals network - SYP.&nbsp\;</span><span style="color: rgb(75\, 79\, 86)\; font-family: Helvetica\, Arial\, sans-serif\; font-size: 14px\;">Bring your business cards and be prepared to make connections!</span><br />\n<br />\n<span style="color: rgb(255\, 0\, 0)\;"><span style="font-family: &quot\;Helvetica Neue&quot\;\, Helvetica\, Arial\, sans-serif\; font-size: 14px\;">This is a no-cost event for Santee &amp\; East County Chamber members.&nbsp\;</span></span>
LOCATION:Game Day Sports Bar Sycuan Casino 5469 Casino Way El Cajon\, CA 92019
UID:e.2538.3056
SEQUENCE:3
DTSTAMP:20260424T090627Z
URL:https://santeechamber.com/events/details/sip-with-syp-3056
END:VEVENT

END:VCALENDAR
