BEGIN:VCALENDAR
VERSION:2.0
PRODID:-//ChamberMaster//Event Calendar 2.0//EN
METHOD:PUBLISH
X-PUBLISHED-TTL:P3D
REFRESH-INTERVAL:P3D
CALSCALE:GREGORIAN
BEGIN:VEVENT
DTSTART:20170713T003000Z
DTEND:20170713T020000Z
X-MICROSOFT-CDO-ALLDAYEVENT:FALSE
SUMMARY:Sip with SYP
DESCRIPTION:Come out and enjoy some casual networking\, snacks\, and beverages with East County's most referred young professionals network - SYP.\n\nPass business tips\, referrals\, and mingle with SYP @ Boll Weevil 53! Each attendee will receive one complimentary drink ticket courtesy of Boll Weevil.  \n\n\n\nThis is a no-cost event for Chamber members.
X-ALT-DESC;FMTTYPE=text/html:<span style="color: rgb(75\, 79\, 86)\; font-family: &quot\;Helvetica Neue&quot\;\, Helvetica\, Arial\, sans-serif\; font-size: 14px\;">Come out and enjoy some casual networking\, snacks\, and beverages with East County&#39\;s most referred young professionals network - SYP.</span><br style="color: rgb(75\, 79\, 86)\; font-family: &quot\;Helvetica Neue&quot\;\, Helvetica\, Arial\, sans-serif\; font-size: 14px\;" />\n<span style="color: rgb(75\, 79\, 86)\; font-family: &quot\;Helvetica Neue&quot\;\, Helvetica\, Arial\, sans-serif\; font-size: 14px\;">Pass business tips\, referrals\, and mingle with SYP @ Boll Weevil 53</span><span style="color: rgb(75\, 79\, 86)\; font-family: &quot\;Helvetica Neue&quot\;\, Helvetica\, Arial\, sans-serif\; font-size: 14px\;">! Each attendee will receive one complimentary drink ticket courtesy of Boll Weevil.&nbsp\;&nbsp\;</span><br />\n<br />\n<span style="color:#FF0000\;"><span style="font-family: &quot\;Helvetica Neue&quot\;\, Helvetica\, Arial\, sans-serif\; font-size: 14px\;">This is a no-cost event for Chamber members.&nbsp\;</span></span>
LOCATION:Boll Weevil 53 9621 Mission Gorge Rd Ste 101 Santee\, CA 92071
UID:e.2538.3020
SEQUENCE:3
DTSTAMP:20260424T203744Z
URL:https://santeechamber.com/events/details/sip-with-syp-3020
END:VEVENT

END:VCALENDAR
