BEGIN:VCALENDAR
VERSION:2.0
PRODID:-//ChamberMaster//Event Calendar 2.0//EN
METHOD:PUBLISH
X-PUBLISHED-TTL:P3D
REFRESH-INTERVAL:P3D
CALSCALE:GREGORIAN
BEGIN:VEVENT
DTSTART:20170504T003000Z
DTEND:20170504T020000Z
X-MICROSOFT-CDO-ALLDAYEVENT:FALSE
SUMMARY:Sip with SYP
DESCRIPTION:Come out and enjoy some casual networking\, snacks\, and cocktails with East County's most referred young professionals network - SYP.\n\nPass business tips\, referrals\, and mingle with SYP @ Copper Collar Distillery located in Santee off Magnolia Avenue! \n\n\n\nRSVP is required\; this event has a limited number of tickets. \n\nThis is a no-cost event for Chamber members only.
X-ALT-DESC;FMTTYPE=text/html:<span style="color: rgb(75\, 79\, 86)\; font-family: &quot\;Helvetica Neue&quot\;\, Helvetica\, Arial\, sans-serif\; font-size: 14px\;">Come out and enjoy some casual networking\, snacks\, and cocktails with East County&#39\;s most referred young professionals network - SYP.</span><br style="color: rgb(75\, 79\, 86)\; font-family: &quot\;Helvetica Neue&quot\;\, Helvetica\, Arial\, sans-serif\; font-size: 14px\;" />\n<span style="color: rgb(75\, 79\, 86)\; font-family: &quot\;Helvetica Neue&quot\;\, Helvetica\, Arial\, sans-serif\; font-size: 14px\;">Pass business tips\, referrals\, and mingle with SYP @ Copper Collar Distillery</span><span style="color: rgb(75\, 79\, 86)\; font-family: &quot\;Helvetica Neue&quot\;\, Helvetica\, Arial\, sans-serif\; font-size: 14px\;">&nbsp\;located in Santee off Magnolia Avenue!&nbsp\;<br />\n<br />\nRSVP is required\; this event has a limited number of tickets.&nbsp\;</span><br style="color: rgb(75\, 79\, 86)\; font-family: &quot\;Helvetica Neue&quot\;\, Helvetica\, Arial\, sans-serif\; font-size: 14px\;" />\n<span style="color:#FF0000\;"><span style="font-family: &quot\;Helvetica Neue&quot\;\, Helvetica\, Arial\, sans-serif\; font-size: 14px\;">This is a no-cost event for Chamber members only.&nbsp\;</span></span>
LOCATION:Copper Collar Distillery 8733 N. Magnolia Santee\, CA 92071
UID:e.2538.3014
SEQUENCE:3
DTSTAMP:20260425T001652Z
URL:https://santeechamber.com/events/details/sip-with-syp-3014
END:VEVENT

END:VCALENDAR
