BEGIN:VCALENDAR
VERSION:2.0
PRODID:-//ChamberMaster//Event Calendar 2.0//EN
METHOD:PUBLISH
X-PUBLISHED-TTL:P3D
REFRESH-INTERVAL:P3D
CALSCALE:GREGORIAN
BEGIN:VEVENT
DTSTART:20170302T013000Z
DTEND:20170302T030000Z
X-MICROSOFT-CDO-ALLDAYEVENT:FALSE
SUMMARY:Sip with SYP
DESCRIPTION:Come out and enjoy some casual networking\, snacks\, and beers with East County's most referred young professionals network - SYP.\n\nPass business tips\, referrals\, and mingle with SYP @ Finest Made Ales located in Santee off Prospect! \n\n\n\nThis is a no-cost event for Chamber members. $10 for non-members. Learn more about the Santee Young Professionals and how to get involved by visiting SanteeChamber.com/SYP
X-ALT-DESC;FMTTYPE=text/html:<span style="color: rgb(75\, 79\, 86)\; font-family: &quot\;Helvetica Neue&quot\;\, Helvetica\, Arial\, sans-serif\; font-size: 14px\;">Come out and enjoy some casual networking\, snacks\, and beers with East County&#39\;s most referred young professionals network - SYP.</span><br style="color: rgb(75\, 79\, 86)\; font-family: &quot\;Helvetica Neue&quot\;\, Helvetica\, Arial\, sans-serif\; font-size: 14px\;" />\n<span style="color: rgb(75\, 79\, 86)\; font-family: &quot\;Helvetica Neue&quot\;\, Helvetica\, Arial\, sans-serif\; font-size: 14px\;">Pass business tips\, referrals\, and mingle with SYP @ Finest Made Ales</span><span style="color: rgb(75\, 79\, 86)\; font-family: &quot\;Helvetica Neue&quot\;\, Helvetica\, Arial\, sans-serif\; font-size: 14px\;">&nbsp\;located in Santee off Prospect!&nbsp\;</span><br style="color: rgb(75\, 79\, 86)\; font-family: &quot\;Helvetica Neue&quot\;\, Helvetica\, Arial\, sans-serif\; font-size: 14px\;" />\n<br style="color: rgb(75\, 79\, 86)\; font-family: &quot\;Helvetica Neue&quot\;\, Helvetica\, Arial\, sans-serif\; font-size: 14px\;" />\n<span style="color: rgb(75\, 79\, 86)\; font-family: &quot\;Helvetica Neue&quot\;\, Helvetica\, Arial\, sans-serif\; font-size: 14px\;">This is a no-cost event for Chamber members. $10 for non-members. Learn more about the Santee Young Professionals and how to get involved by visiting&nbsp\;</span><a href="http://l.facebook.com/l.php?u=http%3A%2F%2FSanteeChamber.com%2FSYP&amp\;h=ZAQFNdF1K&amp\;enc=AZPDVO7GCvrMoqf-pxxXYQog_92bmA9HBrug1RS4WZg0UanO10zu4xIqWBtC8h7HODo&amp\;s=1" rel="nofollow nofollow" style="color: rgb(54\, 88\, 153)\; cursor: pointer\; text-decoration: none\; font-family: &quot\;Helvetica Neue&quot\;\, Helvetica\, Arial\, sans-serif\; font-size: 14px\;" target="_blank">SanteeChamber.com/SYP</a>
LOCATION:Finest Made Ales 9962 Prospect Ave. Santee\, CA 92071
UID:e.2538.3013
SEQUENCE:3
DTSTAMP:20260425T041009Z
URL:https://santeechamber.com/events/details/sip-with-syp-3013
END:VEVENT

END:VCALENDAR
