BEGIN:VCALENDAR
VERSION:2.0
PRODID:-//ChamberMaster//Event Calendar 2.0//EN
METHOD:PUBLISH
X-PUBLISHED-TTL:P3D
REFRESH-INTERVAL:P3D
CALSCALE:GREGORIAN
BEGIN:VEVENT
DTSTART:20240918T180000Z
DTEND:20240918T190000Z
X-MICROSOFT-CDO-ALLDAYEVENT:FALSE
SUMMARY:Sedano Chevrolet Groundbreaking Ceremony
DESCRIPTION:Join us for the groundbreaking ceremony on September 18th to celebrate this exciting milestone! \n\n\n\nKey Highlights:\n\n- Creation of over 100 jobs in sales\, service\, and administration\n\n- State-of-the-art facility featuring a collision center and carwash\n\n- Investment in the local community\, supporting economic growth and development\n\n- Veteran-owned and operated\, reflecting Sedano Auto Group's commitment to supporting military families\n\n\n\nSedano Auto Group is a respected automotive retailer group in San Diego dedicated to delivering exceptional customer experiences. With a strong commitment to community involvement\, the group prioritizes supporting local organizations and initiatives. This would be their 7th Dealership in San Diego along with the recent addition of Kearney Mesa Volkswagen.\n\n\n\nMedia Contact:\n\nAlex Silver\n\n760-406-1125\n\nalex@silvervisionmedia.com
X-ALT-DESC;FMTTYPE=text/html:Join us for the groundbreaking ceremony on September 18th to celebrate this exciting milestone!&nbsp\;<br />\n<br />\nKey Highlights:<br />\n- Creation of over 100 jobs in sales\, service\, and administration<br />\n- State-of-the-art facility featuring a collision center and carwash<br />\n- Investment in the local community\, supporting economic growth and development<br />\n- Veteran-owned and operated\, reflecting Sedano Auto Group&#39\;s commitment to supporting military families<br />\n<br />\nSedano Auto Group is a respected automotive retailer group in San Diego dedicated to delivering exceptional customer experiences. With a strong commitment to community involvement\, the group prioritizes supporting local organizations and initiatives. This would be their 7th Dealership in San Diego along with the recent addition of Kearney Mesa Volkswagen.<br />\n<br />\nMedia Contact:<br />\nAlex Silver<br />\n760-406-1125<br />\nalex@silvervisionmedia.com
LOCATION:Sedano Chevrolet 10335 Mission Gorge Rd. Santee\, CA 92071
UID:e.2538.4979
SEQUENCE:3
DTSTAMP:20260420T091834Z
URL:https://santeechamber.com/events/details/sedano-chevrolet-groundbreaking-ceremony-4979
END:VEVENT

END:VCALENDAR
