BEGIN:VCALENDAR
VERSION:2.0
PRODID:-//ChamberMaster//Event Calendar 2.0//EN
METHOD:PUBLISH
X-PUBLISHED-TTL:P3D
REFRESH-INTERVAL:P3D
CALSCALE:GREGORIAN
BEGIN:VEVENT
DTSTART:20161025T230000Z
DTEND:20161026T020000Z
X-MICROSOFT-CDO-ALLDAYEVENT:FALSE
SUMMARY:Santee Young Professionals Kick-Off
DESCRIPTION:Want to learn more about East County's first Young Professionals Group? Join us as we kickoff the Santee Young Professionals with networking\, food\, and fun! We will be at Lake 1\; parking will be included if you mention our event at the gate. \n\n\n\nThis group is open to Chamber members ages 21-42 who are owners\, decision makers of the company\, or owner approved. \n\n\n\nNot a Chamber member? Join at santeechamber.com or at the kickoff!
X-ALT-DESC;FMTTYPE=text/html:<span style="color: rgb(75\, 79\, 86)\; font-family: helvetica\, arial\, sans-serif\; font-size: 14px\;">Want to learn more about East County&#39\;s first Young Professionals Group? Join us as we kickoff the Santee Young Professionals with networking\, food\, and fun! We will be at Lake 1\; parking will be included if you mention our event at the gate.&nbsp\;</span><br style="color: rgb(75\, 79\, 86)\; font-family: helvetica\, arial\, sans-serif\; font-size: 14px\;" />\n<br style="color: rgb(75\, 79\, 86)\; font-family: helvetica\, arial\, sans-serif\; font-size: 14px\;" />\n<span style="color: rgb(75\, 79\, 86)\; font-family: helvetica\, arial\, sans-serif\; font-size: 14px\;">This group is open to Chamber members ages 21-42 who are owners\, decision makers of the company\, or owner approved.&nbsp\;</span><br style="color: rgb(75\, 79\, 86)\; font-family: helvetica\, arial\, sans-serif\; font-size: 14px\;" />\n<br style="color: rgb(75\, 79\, 86)\; font-family: helvetica\, arial\, sans-serif\; font-size: 14px\;" />\n<span style="color: rgb(75\, 79\, 86)\; font-family: helvetica\, arial\, sans-serif\; font-size: 14px\;">Not a Chamber member? Join at&nbsp\;</span><a href="http://l.facebook.com/l.php?u=http%3A%2F%2Fsanteechamber.com%2F&amp\;h=LAQFKLVRw&amp\;enc=AZPXSrlOLNcqbH0nlbuLiTz_vme1pMlJB-R5x7kyWAkO4BEVeH2_lItTSbc24Z_BSYY&amp\;s=1" rel="nofollow nofollow" style="color: rgb(54\, 88\, 153)\; cursor: pointer\; text-decoration: none\; font-family: helvetica\, arial\, sans-serif\; font-size: 14px\;" target="_blank">santeechamber.com</a><span style="color: rgb(75\, 79\, 86)\; font-family: helvetica\, arial\, sans-serif\; font-size: 14px\;">&nbsp\;or at the kickoff!</span>
LOCATION:Santee Lakes - Lake 1 9310 Fanita Pkwy\, Santee\, CA 92071
UID:e.2538.2863
SEQUENCE:3
DTSTAMP:20260425T104732Z
URL:https://santeechamber.com/events/details/santee-young-professionals-kick-off-2863
END:VEVENT

END:VCALENDAR
