BEGIN:VCALENDAR
VERSION:2.0
PRODID:-//ChamberMaster//Event Calendar 2.0//EN
METHOD:PUBLISH
X-PUBLISHED-TTL:P3D
REFRESH-INTERVAL:P3D
CALSCALE:GREGORIAN
BEGIN:VEVENT
DTSTART:20191107T013000Z
DTEND:20191107T043000Z
X-MICROSOFT-CDO-ALLDAYEVENT:FALSE
SUMMARY:Santee Young Professionals Cornhole Tournament
DESCRIPTION:Grab a friend for a team of two to play in our cornhole tournament at Sportsplex USA while enjoying casual networking! \n\n\n\nFees:\n\n$25 / Team of Two\n\n* Fee includes a team entry into the double-elimination tournament and two drink tickets *\n\n\n\nThe tournament will begin at 5:30pm!
X-ALT-DESC;FMTTYPE=text/html:<span style="font-size: 14px\;"><span style="color: rgb(29\, 33\, 41)\; font-family: Helvetica\, Arial\, sans-serif\; white-space: pre-wrap\;">Grab a friend for a team of two to play in our cornhole tournament at Sportsplex USA while enjoying casual networking! </span><br />\n<br />\nFees:<br />\n$25 / Team of Two<br />\n* Fee includes a team entry into the double-elimination tournament and two drink tickets *<br />\n<br />\nThe tournament will begin at 5:30pm!</span><br />\n&nbsp\;
LOCATION:Sportsplex USA Santee 9951 Riverwalk Drive Santee\, CA 92071
UID:e.2538.3468
SEQUENCE:3
DTSTAMP:20260423T080705Z
URL:https://santeechamber.com/events/details/santee-young-professionals-cornhole-tournament-3468
END:VEVENT

END:VCALENDAR
