BEGIN:VCALENDAR
VERSION:2.0
PRODID:-//ChamberMaster//Event Calendar 2.0//EN
METHOD:PUBLISH
X-PUBLISHED-TTL:P3D
REFRESH-INTERVAL:P3D
CALSCALE:GREGORIAN
BEGIN:VEVENT
DTSTART:20200125T233000Z
DTEND:20200126T030000Z
X-MICROSOFT-CDO-ALLDAYEVENT:FALSE
SUMMARY:Santee Sunset 5k
DESCRIPTION:The inaugural Santee Sunset 5k so the public can walk or run in the footsteps of Olympians. The 5k course will be the same as the U.S. Olympic Team Trials 50km Race Walking course that professional athletes just competed on to qualify for the U.S. Olympic Race Walking team in the Tokyo 2020 games that morning. All ages and fitness levels welcome\, bring the whole family. Expo and Blood Drive hosted before and after the race. T-shirt\, beer & cupcake included in the registration.
X-ALT-DESC;FMTTYPE=text/html:The inaugural Santee Sunset 5k so the public can walk or run in the footsteps of Olympians. The 5k course will be the same as the U.S. Olympic Team Trials 50km Race Walking course that professional athletes just competed on to qualify for the U.S. Olympic Race Walking team in the Tokyo 2020 games that morning. All ages and fitness levels welcome\, bring the whole family. Expo and Blood Drive hosted before and after the race. T-shirt\, beer &amp\; cupcake included in the registration.
LOCATION:Santee Trolley Square (in the parking lot behind the clock tower) and the race will take place on Town Center Parkway & Riverview Parkway
UID:e.2538.3522
SEQUENCE:3
DTSTAMP:20260425T112719Z
URL:https://santeechamber.com/events/details/santee-sunset-5k-3522
END:VEVENT

END:VCALENDAR
