BEGIN:VCALENDAR
VERSION:2.0
PRODID:-//ChamberMaster//Event Calendar 2.0//EN
METHOD:PUBLISH
X-PUBLISHED-TTL:P3D
REFRESH-INTERVAL:P3D
CALSCALE:GREGORIAN
BEGIN:VEVENT
DTSTART:20180824T013000Z
DTEND:20180824T030000Z
X-MICROSOFT-CDO-ALLDAYEVENT:FALSE
SUMMARY:Santee Summer Concerts
DESCRIPTION:
X-ALT-DESC;FMTTYPE=text/html:
LOCATION:Town Center Community Park East 550 Park Center Drive
UID:e.2538.3043
SEQUENCE:3
DTSTAMP:20260424T000936Z
URL:https://santeechamber.com/events/details/santee-summer-concerts-3043
END:VEVENT

END:VCALENDAR
