BEGIN:VCALENDAR
VERSION:2.0
PRODID:-//ChamberMaster//Event Calendar 2.0//EN
METHOD:PUBLISH
X-PUBLISHED-TTL:P3D
REFRESH-INTERVAL:P3D
CALSCALE:GREGORIAN
BEGIN:VEVENT
DTSTART:20180810T003000Z
DTEND:20180810T033000Z
X-MICROSOFT-CDO-ALLDAYEVENT:FALSE
SUMMARY:Santee Summer Concerts
DESCRIPTION:Wingstock
X-ALT-DESC;FMTTYPE=text/html:Wingstock
LOCATION:Town Center Community Park East 550 Park Center Drive
UID:e.2538.3041
SEQUENCE:3
DTSTAMP:20260424T001102Z
URL:https://santeechamber.com/events/details/santee-summer-concerts-3041
END:VEVENT

END:VCALENDAR
