BEGIN:VCALENDAR
VERSION:2.0
PRODID:-//ChamberMaster//Event Calendar 2.0//EN
METHOD:PUBLISH
X-PUBLISHED-TTL:P3D
REFRESH-INTERVAL:P3D
CALSCALE:GREGORIAN
BEGIN:VEVENT
DTSTART:20190525T170000Z
DTEND:20190526T010000Z
X-MICROSOFT-CDO-ALLDAYEVENT:FALSE
SUMMARY:Santee Street Fair 2019
DESCRIPTION:This is a free\, public event featuring vendor booths\, food\, and entertainment. \n\n\n\nVendor Information: \n\nFOOD VENDORS ARE BY INVITATION ONLY! Do not signup on this page if you are a food vendor. \n\nSOLD OUT BOOTHS: Color Street\n\n	\n	Only one 10x10 or 10x20 booth space may be purchased by each vendor. \n\n	If you sell 100% homemade arts and crafts contact info@santeechamber.com \n\n	for specialty pricing. \n\n	\n\n	All vendors must check in by 8AM or risk forfeiting their booth.\n\n	NO REFUNDS will be given. All cars must be off the street by 9A.M.\n	\n	\n	Sharing booth space is not permitted\, only one organization or\n\n	business per vendor space is allowed.\n	\n	\n	The sale of firearms\, tobacco\, tobacco/drug paraphernalia\, alcohol\, or\n\n	any other item that promotes the use of illicit substance is prohibited.
X-ALT-DESC;FMTTYPE=text/html:This is a free\, public event featuring vendor booths\, food\, and entertainment.&nbsp\;<br />\n<br />\n<span style="font-size: 14px\;"><strong>Vendor Information:&nbsp\;</strong></span><br />\n<span style="color: rgb(255\, 0\, 0)\;"><span style="line-height: 17.4px\; font-family: Arial\, Helvetica\, sans-serif\; font-size: 12px\; background-color: rgb(255\, 255\, 255)\;">FOOD VENDORS ARE BY INVITATION ONLY!</span></span><span style="color: rgb(0\, 0\, 0)\;"><span style="line-height: 17.4px\; font-family: Arial\, Helvetica\, sans-serif\; font-size: 12px\; background-color: rgb(255\, 255\, 255)\;"> Do not signup on this page if you are a food vendor.&nbsp\;<br />\nSOLD OUT BOOTHS: Color Street</span></span>\n<ul style="list-style: none\; margin: 0px\; color: rgb(100\, 118\, 120)\; line-height: 17.4px\; padding-right: 0px\; padding-left: 0px\; font-family: Arial\, Helvetica\, sans-serif\; font-size: 12px\;">\n	<li style="margin: 0px 0px 14px\; padding: 0px\;">\n	<p style="margin: 4px 0px 0px\; padding: 0px\; width: 533.1px\;"><span style="color: rgb(0\, 0\, 0)\;">Only one 10x10 or 10x20 booth space&nbsp\;may be purchased by each&nbsp\;vendor.&nbsp\;<br />\n	<span style="line-height: 17.4px\; font-family: Arial\, Helvetica\, sans-serif\; font-size: 12px\;">If you sell</span></span><span style="color: rgb(255\, 0\, 0)\;"><span style="line-height: 17.4px\; font-family: Arial\, Helvetica\, sans-serif\; font-size: 12px\;">&nbsp\;100% homemade arts and crafts</span></span><span style="color: rgb(0\, 0\, 0)\;"><span style="line-height: 17.4px\; font-family: Arial\, Helvetica\, sans-serif\; font-size: 12px\;">&nbsp\;contact<a href="mailto:info@santeechamber.com?subject=Craft%20Booth%20Inquiry">&nbsp\;info@santeechamber.com</a>&nbsp\;<br />\n	for specialty pricing.&nbsp\;</span><br />\n	<br />\n	All vendors must check in by 8AM or risk forfeiting their booth.<br />\n	NO REFUNDS will be given. All cars must be off the street by 9A.M.</span></p>\n	</li>\n	<li style="margin: 0px 0px 14px\; padding: 0px\;">\n	<p style="margin: 4px 0px 0px\; padding: 0px\; width: 533.1px\;"><span style="color: rgb(0\, 0\, 0)\;">Sharing booth space is not permitted\, only one organization or<br />\n	business per vendor space is allowed.</span></p>\n	</li>\n	<li style="margin: 0px 0px 14px\; padding: 0px\;">\n	<p style="margin: 4px 0px 0px\; padding: 0px\; width: 533.1px\;"><span style="color: rgb(0\, 0\, 0)\;">The sale of firearms\, tobacco\, tobacco/drug paraphernalia\, alcohol\, or<br />\n	any other item that promotes the use of illicit substance is prohibited.</span></p>\n	</li>\n</ul>\n
LOCATION:Riverview Parkway and Town Center Parkway
UID:e.2538.3278
SEQUENCE:3
DTSTAMP:20260423T081843Z
URL:https://santeechamber.com/events/details/santee-street-fair-2019-3278
END:VEVENT

END:VCALENDAR
