BEGIN:VCALENDAR
VERSION:2.0
PRODID:-//ChamberMaster//Event Calendar 2.0//EN
METHOD:PUBLISH
X-PUBLISHED-TTL:P3D
REFRESH-INTERVAL:P3D
CALSCALE:GREGORIAN
BEGIN:VEVENT
DTSTART:20180526T170000Z
DTEND:20180527T010000Z
X-MICROSOFT-CDO-ALLDAYEVENT:FALSE
SUMMARY:Santee Street Fair 2018
DESCRIPTION:This is a free\, public event featuring vendor booths\, food\, and entertainment. \n\n\n\nVendor Information: \n\nFOOD VENDORS ARE BY INVITATION ONLY! Do not signup on this page if you are a food vendor. \n\nIf you sell 100% homemade arts and crafts contact info@santeechamber.com for specialty pricing. \n\n	\n	Only one 10x10 or 10x20 booth space may be purchased by each vendor. \n\n	\n\n	All vendors must check in by 8AM or risk forfeiting their booth. NO REFUNDS will be given. All cars must be off the street by 9A.M.\n	\n	\n	Sharing booth space is not permitted\, only one organization or business per vendor space is allowed.\n	\n	\n	The sale of firearms\, tobacco\, tobacco/drug paraphernalia\, alcohol\, or any other item that promotes the use of illicit substance is prohibited.
X-ALT-DESC;FMTTYPE=text/html:This is a free\, public event featuring vendor booths\, food\, and entertainment.&nbsp\;<br />\n<br />\n<span style="font-size: 14px\;"><strong>Vendor Information:&nbsp\;</strong></span><br />\n<span style="color: rgb(255\, 0\, 0)\;"><span style="line-height: 17.4px\; font-family: Arial\, Helvetica\, sans-serif\; font-size: 12px\; background-color: rgb(255\, 255\, 255)\;">FOOD VENDORS ARE BY INVITATION ONLY!</span></span><span style="color: rgb(0\, 0\, 0)\;"><span style="line-height: 17.4px\; font-family: Arial\, Helvetica\, sans-serif\; font-size: 12px\; background-color: rgb(255\, 255\, 255)\;"> Do not signup on this page if you are a food vendor.&nbsp\;<br />\nIf you sell</span></span><span style="color: rgb(255\, 0\, 0)\;"><span style="line-height: 17.4px\; font-family: Arial\, Helvetica\, sans-serif\; font-size: 12px\; background-color: rgb(255\, 255\, 255)\;"> 100% homemade arts and crafts</span></span><span style="color: rgb(0\, 0\, 0)\;"><span style="line-height: 17.4px\; font-family: Arial\, Helvetica\, sans-serif\; font-size: 12px\; background-color: rgb(255\, 255\, 255)\;"> contact<a href="mailto:info@santeechamber.com?subject=Craft%20Booth%20Inquiry"> info@santeechamber.com</a> for specialty pricing.&nbsp\;</span></span>\n<ul style="list-style: none\; margin: 0px\; color: rgb(100\, 118\, 120)\; line-height: 17.4px\; padding-right: 0px\; padding-left: 0px\; font-family: Arial\, Helvetica\, sans-serif\; font-size: 12px\;">\n	<li style="margin: 0px 0px 14px\; padding: 0px\;">\n	<p style="margin: 4px 0px 0px\; padding: 0px\; width: 533.1px\;"><span style="color: rgb(0\, 0\, 0)\;">Only one 10x10 or 10x20 booth space&nbsp\;may be purchased by each&nbsp\;vendor.&nbsp\;<br />\n	<br />\n	All vendors must check in by 8AM or risk forfeiting their booth. NO REFUNDS will be given. All cars must be off the street by 9A.M.</span></p>\n	</li>\n	<li style="margin: 0px 0px 14px\; padding: 0px\;">\n	<p style="margin: 4px 0px 0px\; padding: 0px\; width: 533.1px\;"><span style="color: rgb(0\, 0\, 0)\;">Sharing booth space is not permitted\, only one organization or business per vendor space is allowed.</span></p>\n	</li>\n	<li style="margin: 0px 0px 14px\; padding: 0px\;">\n	<p style="margin: 4px 0px 0px\; padding: 0px\; width: 533.1px\;"><span style="color: rgb(0\, 0\, 0)\;">The sale of firearms\, tobacco\, tobacco/drug paraphernalia\, alcohol\, or any other item that promotes the use of illicit substance is prohibited.</span></p>\n	</li>\n</ul>\n
LOCATION:Riverview Parkway and Town Center Parkway
UID:e.2538.3050
SEQUENCE:3
DTSTAMP:20260424T044549Z
URL:https://santeechamber.com/events/details/santee-street-fair-2018-3050
END:VEVENT

END:VCALENDAR
