BEGIN:VCALENDAR
VERSION:2.0
PRODID:-//ChamberMaster//Event Calendar 2.0//EN
METHOD:PUBLISH
X-PUBLISHED-TTL:P3D
REFRESH-INTERVAL:P3D
CALSCALE:GREGORIAN
BEGIN:VEVENT
DTSTART:20160528T183000Z
DTEND:20160529T003000Z
X-MICROSOFT-CDO-ALLDAYEVENT:FALSE
SUMMARY:Santee Street Fair 2016 - Beer Vendors
DESCRIPTION:The Santee Street Fair will be open from 10am-6pm and the Beer Garden will open at 11:30am. Last pour will be at 5:30pm. We expect upwards of 1500 individuals to visit our Beer Garden throughout the day. \n\n\n\nThis year's proceeds will benefit the Santee Chamber of Commerce\, a not-for-profit 501c6 (Tax ID 23-7318582)\, whose mission is to create opportunities for the Chamber members to build successful businesses\n\nwhile enhancing economic and community development. Your generosity is greatly appreciated.\n\n\n\nThere is no fee for breweries to participate in our Beer Garden. However\, we ask that you provide taps\, sufficient kegs for the day\, and pourers who are knowledgeable about your beer. Feel free to bring your brewery easy-up and any other promotional display items. \n\nOur Chamber will provide your brewery with ice\, taster cups\, tables\, and two chairs.
X-ALT-DESC;FMTTYPE=text/html:<span style="color:#000000\;"><span style="font-family:arial\;"><span style="font-size: 14px\; line-height: 18.2px\;">The Santee&nbsp\;Street Fair will be open&nbsp\;from 10am-6pm and the Beer Garden will open at 11:30am. Last pour will be at 5:30pm. We expect upwards of 1500 individuals to visit our Beer Garden throughout the day.&nbsp\;</span></span><br />\n<br />\n<span style="font-family:arial\;"><span style="font-size:14px\;"><span style="line-height: 25px\;">This year&#39\;s proceeds will benefit the Santee Chamber of Commerce\, a not-for-profit 501c6&nbsp\;(Tax ID </span><span id="docs-internal-guid-b4ef3638-07cd-b301-b96e-b9f54716584f"><span style="vertical-align: baseline\; white-space: pre-wrap\; background-color: transparent\;">23-7318582</span></span><span style="line-height: 25px\;">)\, whose mission is to c</span>reate opportunities for the Chamber members to build successful businesses<br />\nwhile enhancing economic and community development<span style="line-height: 25px\;">. Your generosity is greatly appreciated.</span></span></span><br />\n<br />\n<span style="font-size:14px\;"><span style="font-family:arial\;">There is no fee for breweries to participate in our Beer Garden. However\, we ask that you provide taps\, sufficient kegs for the day\, and pourers who are knowledgeable about your beer. Feel free to bring your brewery easy-up and any other promotional display items.&nbsp\;<br />\nOur Chamber will provide your brewery with ice\, taster cups\, tables\, and two chairs.&nbsp\;</span></span></span>
LOCATION:Riverview Parkway and Town Center Parkway
UID:e.2538.2689
SEQUENCE:3
DTSTAMP:20260425T183125Z
URL:https://santeechamber.com/events/details/santee-street-fair-2016-beer-vendors-2689
END:VEVENT

END:VCALENDAR
